Workbook
Name _5.4_纪念碑谷: '5.4纪念碑谷'!$A$1:$C$13
Name 纪念碑谷: '5.4纪念碑谷'!$A$1:$C$13
Name 颜色主题: '1.序幕'!$D$27

Sheet 1.序幕
B3: 部落冲突研究笔记 | G3: 家乡大本营 | I3: 15 | V3: =IF(I3>=9,IF(I3>11,IF(I3>14,"Ⅴ 芬福时代","Ⅳ 帝王时代"),"Ⅲ 城堡时代"),IF(I3>1,"Ⅱ 封建时代","Ⅰ 黑暗时代")) -> Ⅴ 芬福时代
D5: ="陪你 "&DATEDIF(DATE(2018,6,11),NOW(),"D")&" 天了" -> 陪你 2129 天了
G6: 加农炮 | H6: ="★"&TEXT(VALUE(LEFT(小羊的家备份!Z8,2)),"?0")&" ☀"&TEXT(VALUE(RIGHT(小羊的家备份!Z8,3)),"?0") -> ★21 ☀ 7 | J6: 大本营 | K6: ="★"&TEXT(VALUE(LEFT(小羊的家备份!Z37,2)),"?0")&" ☀"&TEXT(VALUE(RIGHT(小羊的家备份!Z37,3)),"?0") -> ★15 ☀ 1 | M6: 野蛮人 | N6: ="★"&TEXT(VALUE(小羊的家备份!Z55),"?0") -> ★11 | P6: 雷电法术 | Q6: ="★"&TEXT(VALUE(小羊的家备份!Z83),"?0") -> ★10 | S6: ====联机模式==== | V6: 当前本升级数据
B7: 地狱飞龙 | G7: 箭塔 | H7: ="★"&TEXT(VALUE(LEFT(小羊的家备份!Z9,2)),"?0")&" ☀"&TEXT(VALUE(RIGHT(小羊的家备份!Z9,3)),"?0") -> ★21 ☀ 8 | J7: 部落城堡 | K7: ="★"&TEXT(VALUE(LEFT(小羊的家备份!Z38,2)),"?0")&" ☀"&TEXT(VALUE(RIGHT(小羊的家备份!Z38,3)),"?0") -> ★11 ☀ 1 | M7: 弓箭手 | N7: ="★"&TEXT(VALUE(小羊的家备份!Z56),"?0") -> ★11 | P7: 疗伤法术 | Q7: ="★"&TEXT(VALUE(小羊的家备份!Z84),"?0") -> ★ 9 | S7: 搜索费用 | T7: =小羊的家备份!Z121 -> 1400
G8: 城墙 | H8: ="★"&TEXT(VALUE(LEFT(小羊的家备份!Z10,2)),"?0")&" ☀"&TEXT(VALUE(RIGHT(小羊的家备份!Z10,3)),"?0") -> ★16 ☀200 | I8: =IF(I3=15,"★15☀125","") -> ★15☀125 | J8: 实验室 | K8: ="★"&TEXT(VALUE(LEFT(小羊的家备份!Z39,2)),"?0")&" ☀"&TEXT(VALUE(RIGHT(小羊的家备份!Z39,3)),"?0") -> ★13 ☀ 1 | M8: 巨人 | N8: ="★"&TEXT(VALUE(小羊的家备份!Z57),"?0") -> ★11 | P8: 狂暴法术 | Q8: ="★"&TEXT(VALUE(小羊的家备份!Z85),"?0") -> ★ 6 | S8: 金水比例 | T8: =小羊的家备份!Z122 -> 10 | V8: 圣水 | W8: =小羊的家备份!Z150 -> 552300000
G9: 迫击炮 | H9: ="★"&TEXT(VALUE(LEFT(小羊的家备份!Z11,2)),"?0")&" ☀"&TEXT(VALUE(RIGHT(小羊的家备份!Z11,3)),"?0") -> ★15 ☀ 4 | J9: 训练营 | K9: ="★"&TEXT(VALUE(LEFT(小羊的家备份!Z40,2)),"?0")&" ☀"&TEXT(VALUE(RIGHT(小羊的家备份!Z40,3)),"?0") -> ★16 ☀ 1 | M9: 哥布林 | N9: ="★"&TEXT(VALUE(小羊的家备份!Z58),"?0") -> ★ 8 | P9: 弹跳法术 | Q9: ="★"&TEXT(VALUE(小羊的家备份!Z86),"?0") -> ★ 5 | S9: 黑油比例 | T9: =小羊的家备份!Z123 -> 4 | V9: 金币 | W9: =小羊的家备份!Z151 -> 956500000
G10: 防空火箭 | H10: ="★"&TEXT(VALUE(LEFT(小羊的家备份!Z12,2)),"?0")&" ☀"&TEXT(VALUE(RIGHT(小羊的家备份!Z12,3)),"?0") -> ★13 ☀ 4 | J10: 暗黑训练营 | K10: ="★"&TEXT(VALUE(LEFT(小羊的家备份!Z41,2)),"?0")&" ☀"&TEXT(VALUE(RIGHT(小羊的家备份!Z41,3)),"?0") -> ★ 9 ☀ 1 | M10: 炸弹人 | N10: ="★"&TEXT(VALUE(小羊的家备份!Z59),"?0") -> ★11 | P10: 冰冻法术 | Q10: ="★"&TEXT(VALUE(小羊的家备份!Z87),"?0") -> ★ 7 | S10: 金水上限 | T10: =小羊的家备份!Z124 -> 650000 | V10: 黑油 | W10: =小羊的家备份!Z152 -> 16520000
B11: =INDEX(INDIRECT(小羊的家备份!T2),MATCH(1,INDIRECT(小羊的家备份!T1),0)) -> 家乡支援军->地狱飞龙 | E11: =HYPERLINK(INDEX(INDIRECT(小羊的家备份!T3),MATCH(1,INDIRECT(小羊的家备份!T1),0)),">>进入") -> >>进入 | G11: 法师塔 | H11: ="★"&TEXT(VALUE(LEFT(小羊的家备份!Z13,2)),"?0")&" ☀"&TEXT(VALUE(RIGHT(小羊的家备份!Z13,3)),"?0") -> ★15 ☀ 5 | J11: 兵营 | K11: ="★"&TEXT(VALUE(LEFT(小羊的家备份!Z42,2)),"?0")&" ☀"&TEXT(VALUE(RIGHT(小羊的家备份!Z42,3)),"?0") -> ★12 ☀ 4 | M11: 气球兵 | N11: ="★"&TEXT(VALUE(小羊的家备份!Z60),"?0") -> ★10 | P11: 镜像法术 | Q11: ="★"&TEXT(VALUE(小羊的家备份!Z88),"?0") -> ★ 7 | S11: 黑油上限 | T11: =小羊的家备份!Z125 -> 5500 | V11: 单个工人时间 | W11: =小羊的家备份!Z153 -> 1386
G12: 空气炮 | H12: ="★"&TEXT(VALUE(LEFT(小羊的家备份!Z14,2)),"?0")&" ☀"&TEXT(VALUE(RIGHT(小羊的家备份!Z14,3)),"?0") -> ★ 7 ☀ 2 | J12: 法术工厂 | K12: ="★"&TEXT(VALUE(LEFT(小羊的家备份!Z43,2)),"?0")&" ☀"&TEXT(VALUE(RIGHT(小羊的家备份!Z43,3)),"?0") -> ★ 7 ☀ 1 | M12: 法师 | N12: ="★"&TEXT(VALUE(小羊的家备份!Z61),"?0") -> ★11 | P12: 隐形法术 | Q12: ="★"&TEXT(VALUE(小羊的家备份!Z89),"?0") -> ★ 4 | V12: 科技时间 | W12: =小羊的家备份!Z154 -> 270.5
G13: 伏击电塔 | H13: ="★"&TEXT(VALUE(LEFT(小羊的家备份!Z15,2)),"?0")&" ☀"&TEXT(VALUE(RIGHT(小羊的家备份!Z15,3)),"?0") -> ★13 ☀ 5 | J13: 暗黑工厂 | K13: ="★"&TEXT(VALUE(LEFT(小羊的家备份!Z44,2)),"?0")&" ☀"&TEXT(VALUE(RIGHT(小羊的家备份!Z44,3)),"?0") -> ★ 5 ☀ 1 | M13: 天使 | N13: ="★"&TEXT(VALUE(小羊的家备份!Z62),"?0") -> ★ 7 | P13: 召回法术 | Q13: ="★"&TEXT(VALUE(小羊的家备份!Z90),"?0") -> ★ 4 | S13: ====部落对战==== | V13: 战宠时间 | W13: =小羊的家备份!Z155 -> 210
B14: =INDEX(INDIRECT(小羊的家备份!T2),MATCH(2,INDIRECT(小羊的家备份!T1),0)) -> 都城军队->地狱飞龙 | E14: =HYPERLINK(INDEX(INDIRECT(小羊的家备份!T3),MATCH(2,INDIRECT(小羊的家备份!T1),0)),">>进入") -> >>进入 | G14: 炸弹塔 | H14: ="★"&TEXT(VALUE(LEFT(小羊的家备份!Z16,2)),"?0")&" ☀"&TEXT(VALUE(RIGHT(小羊的家备份!Z16,3)),"?0") -> ★10 ☀ 2 | J14: 攻城工坊 | K14: ="★"&TEXT(VALUE(LEFT(小羊的家备份!Z45,2)),"?0")&" ☀"&TEXT(VALUE(RIGHT(小羊的家备份!Z45,3)),"?0") -> ★ 7 ☀ 1 | M14: 飞龙 | N14: ="★"&TEXT(VALUE(小羊的家备份!Z63),"?0") -> ★ 9 | S14: 对战经验 | T14: =小羊的家备份!Z128 -> 13 | V14: 刷墙金币 | W14: =小羊的家备份!Z156 -> 0
G15: X连弩 | H15: ="★"&TEXT(VALUE(LEFT(小羊的家备份!Z17,2)),"?0")&" ☀"&TEXT(VALUE(RIGHT(小羊的家备份!Z17,3)),"?0") -> ★10 ☀ 4 | J15: 圣水泵 | K15: ="★"&TEXT(VALUE(LEFT(小羊的家备份!Z46,2)),"?0")&" ☀"&TEXT(VALUE(RIGHT(小羊的家备份!Z46,3)),"?0") -> ★15 ☀ 7 | M15: 皮卡超人 | N15: ="★"&TEXT(VALUE(小羊的家备份!Z64),"?0") -> ★ 9 | P15: 毒药法术 | Q15: ="★"&TEXT(VALUE(小羊的家备份!Z93),"?0") -> ★ 9 | S15: 金水上限 | T15: =小羊的家备份!Z126 -> 150000 | V15: 刷墙金水 | W15: =小羊的家备份!Z157-小羊的家备份!Z156 -> 1600000000
G16: 地狱之塔 | H16: ="★"&TEXT(VALUE(LEFT(小羊的家备份!Z18,2)),"?0")&" ☀"&TEXT(VALUE(RIGHT(小羊的家备份!Z18,3)),"?0") -> ★ 9 ☀ 3 | J16: 圣水瓶 | K16: ="★"&TEXT(VALUE(LEFT(小羊的家备份!Z47,2)),"?0")&" ☀"&TEXT(VALUE(RIGHT(小羊的家备份!Z47,3)),"?0") -> ★16 ☀ 4 | M16: 飞龙宝宝 | N16: ="★"&TEXT(VALUE(小羊的家备份!Z65),"?0") -> ★ 8 | P16: 地震法术 | Q16: ="★"&TEXT(VALUE(小羊的家备份!Z94),"?0") -> ★ 5 | S16: 黑油上限 | T16: =小羊的家备份!Z127 -> 800
B17: =INDEX(INDIRECT(小羊的家备份!T2),MATCH(3,INDIRECT(小羊的家备份!T1),0)) -> 都城建筑->地狱飞龙训练营 | E17: =HYPERLINK(INDEX(INDIRECT(小羊的家备份!T3),MATCH(3,INDIRECT(小羊的家备份!T1),0)),">>进入") -> >>进入 | G17: 天鹰火炮 | H17: ="★"&TEXT(VALUE(LEFT(小羊的家备份!Z19,2)),"?0")&" ☀"&TEXT(VALUE(RIGHT(小羊的家备份!Z19,3)),"?0") -> ★ 5 ☀ 1 | J17: 采金场 | K17: ="★"&TEXT(VALUE(LEFT(小羊的家备份!Z48,2)),"?0")&" ☀"&TEXT(VALUE(RIGHT(小羊的家备份!Z48,3)),"?0") -> ★15 ☀ 7 | M17: 掘地矿工 | N17: ="★"&TEXT(VALUE(小羊的家备份!Z66),"?0") -> ★ 8 | P17: 急速法术 | Q17: ="★"&TEXT(VALUE(小羊的家备份!Z95),"?0") -> ★ 5
G18: 巨型电磁组件 | H18: ="★"&TEXT(VALUE(LEFT(小羊的家备份!Z24,2)),"?0")&" ☀"&TEXT(VALUE(RIGHT(小羊的家备份!Z24,3)),"?0") -> ★ 5 ☀ 1 | J18: 储金罐 | K18: ="★"&TEXT(VALUE(LEFT(小羊的家备份!Z49,2)),"?0")&" ☀"&TEXT(VALUE(RIGHT(小羊的家备份!Z49,3)),"?0") -> ★16 ☀ 4 | M18: 雷电飞龙 | N18: ="★"&TEXT(VALUE(小羊的家备份!Z67),"?0") -> ★ 5 | P18: 骷髅法术 | Q18: ="★"&TEXT(VALUE(小羊的家备份!Z96),"?0") -> ★ 7 | S18: ====城堡宝库==== | V18: 从一本至当大本全满
G19: 投石炮 | H19: ="★"&TEXT(VALUE(LEFT(小羊的家备份!Z20,2)),"?0")&" ☀"&TEXT(VALUE(RIGHT(小羊的家备份!Z20,3)),"?0") -> ★ 3 ☀ 2 | J19: 黑油钻井 | K19: ="★"&TEXT(VALUE(LEFT(小羊的家备份!Z50,2)),"?0")&" ☀"&TEXT(VALUE(RIGHT(小羊的家备份!Z50,3)),"?0") -> ★ 9 ☀ 3 | M19: 雪怪 | N19: ="★"&TEXT(VALUE(小羊的家备份!Z68),"?0") -> ★ 4 | P19: 蝙蝠法术 | Q19: ="★"&TEXT(VALUE(小羊的家备份!Z97),"?0") -> ★ 6 | S19: 金水上限 | T19: =小羊的家备份!Z131 -> 4800000 | V19: 从一本至当大本全满
B20: 注意：">>进入"按钮仅电脑有效 | G20: 连弩小屋组件 | H20: ="★"&TEXT(VALUE(LEFT(小羊的家备份!Z21,2)),"?0")&" ☀"&TEXT(VALUE(RIGHT(小羊的家备份!Z21,3)),"?0") -> ★ 4 ☀ 5 | J20: 黑油罐 | K20: ="★"&TEXT(VALUE(LEFT(小羊的家备份!Z51,2)),"?0")&" ☀"&TEXT(VALUE(RIGHT(小羊的家备份!Z51,3)),"?0") -> ★10 ☀ 1 | M20: 龙骑士 | N20: ="★"&TEXT(VALUE(小羊的家备份!Z69),"?0") -> ★ 3 | S20: 黑油上限 | T20: =小羊的家备份!Z132 -> 24000 | V20: 圣水 | W20: =小羊的家备份!Z158 -> 2454259950
G21: 法术塔 | H21: ="★"&TEXT(VALUE(LEFT(小羊的家备份!Z22,2)),"?0")&" ☀"&TEXT(VALUE(RIGHT(小羊的家备份!Z22,3)),"?0") -> ★ 3 ☀ 2 | J21: 战宠小屋 | K21: ="★"&TEXT(VALUE(LEFT(小羊的家备份!Z52,2)),"?0")&" ☀"&TEXT(VALUE(RIGHT(小羊的家备份!Z52,3)),"?0") -> ★ 8 ☀ 1 | M21: 雷霆泰坦 | N21: ="★"&TEXT(VALUE(小羊的家备份!Z70),"?0") -> ★ 3 | V21: 金币 | W21: =小羊的家备份!Z159 -> 4458169500
G22: 巨石碑 | H22: ="★"&TEXT(VALUE(LEFT(小羊的家备份!Z23,2)),"?0")&" ☀"&TEXT(VALUE(RIGHT(小羊的家备份!Z23,3)),"?0") -> ★ 2 ☀ 1 | S22: ====资源车==== | V22: 黑油 | W22: =小羊的家备份!Z160 -> 58010000
G23: 冰爆地狱组件 | H23: ="★"&TEXT(VALUE(LEFT(小羊的家备份!Z25,2)),"?0")&" ☀"&TEXT(VALUE(RIGHT(小羊的家备份!Z25,3)),"?0") -> ★ 5 ☀ 1 | M23: 亡灵 | N23: ="★"&TEXT(VALUE(小羊的家备份!Z72),"?0") -> ★11 | P23: 攻城战车 | Q23: ="★"&TEXT(VALUE(小羊的家备份!Z114),"?0") -> ★ 4 | S23: 金水上限 | T23: =小羊的家备份!Z129 -> 3000000 | V23: 单个工人时间 | W23: =小羊的家备份!Z161 -> 7598.4321
G24: 毒爆地狱组件 | H24: ="★"&TEXT(VALUE(LEFT(小羊的家备份!Z26,2)),"?0")&" ☀"&TEXT(VALUE(RIGHT(小羊的家备份!Z26,3)),"?0") -> ★ 5 ☀ 1 | M24: 野猪骑士 | N24: ="★"&TEXT(VALUE(小羊的家备份!Z73),"?0") -> ★11 | P24: 攻城飞艇 | Q24: ="★"&TEXT(VALUE(小羊的家备份!Z115),"?0") -> ★ 4 | S24: 黑油上限 | T24: =小羊的家备份!Z130 -> 6000 | V24: 科技时间 | W24: =小羊的家备份!Z162 -> 1853
G25: 魔能地狱组件 | H25: ="★"&TEXT(VALUE(LEFT(小羊的家备份!Z27,2)),"?0")&" ☀"&TEXT(VALUE(RIGHT(小羊的家备份!Z27,3)),"?0") -> ★ 5 ☀ 1 | M25: 武神 | N25: ="★"&TEXT(VALUE(小羊的家备份!Z74),"?0") -> ★ 9 | P25: 攻城气球 | Q25: ="★"&TEXT(VALUE(小羊的家备份!Z116),"?0") -> ★ 4 | S25: 金水填充 | T25: =小羊的家备份!Z133 -> 18000000 | V25: 战宠时间 | W25: =小羊的家备份!Z163 -> 420
M26: 戈仑石人 | N26: ="★"&TEXT(VALUE(小羊的家备份!Z75),"?0") -> ★11 | P26: 攻城训练营 | Q26: ="★"&TEXT(VALUE(小羊的家备份!Z117),"?0") -> ★ 4 | S26: 黑油填充 | T26: =小羊的家备份!Z134 -> 180000
B27: 颜色主题 | D27: 魔法 | M27: 女巫 | N27: ="★"&TEXT(VALUE(小羊的家备份!Z76),"?0") -> ★ 6 | P27: 滚木战车 | Q27: ="★"&TEXT(VALUE(小羊的家备份!Z118),"?0") -> ★ 4 | V27: 刷墙金币 | W27: =小羊的家备份!Z164 -> 5216250
G28: 隐形炸弹 | H28: ="★"&TEXT(VALUE(LEFT(小羊的家备份!Z29,2)),"?0")&" ☀"&TEXT(VALUE(RIGHT(小羊的家备份!Z29,3)),"?0") -> ★11 ☀ 8 | J28: 野蛮人之王 | K28: ="★"&TEXT(VALUE(小羊的家备份!Z100),"?0") -> ★85 | M28: 熔岩猎犬 | N28: ="★"&TEXT(VALUE(小羊的家备份!Z77),"?0") -> ★ 6 | P28: 投石战车 | Q28: ="★"&TEXT(VALUE(小羊的家备份!Z119),"?0") -> ★ 4 | V28: 刷墙金水 | W28: =小羊的家备份!Z165-小羊的家备份!Z164 -> 6466875000
G29: 空中炸弹 | H29: ="★"&TEXT(VALUE(LEFT(小羊的家备份!Z30,2)),"?0")&" ☀"&TEXT(VALUE(RIGHT(小羊的家备份!Z30,3)),"?0") -> ★10 ☀ 7 | J29: 弓箭女皇 | K29: ="★"&TEXT(VALUE(小羊的家备份!Z101),"?0") -> ★85 | M29: 巨石投手 | N29: ="★"&TEXT(VALUE(小羊的家备份!Z78),"?0") -> ★ 6 | P29: 攻城钻机 | Q29: ="★"&TEXT(VALUE(小羊的家备份!Z120),"?0") -> ★ 4 | S29: ====升本激励====
G30: 搜空地雷 | H30: ="★"&TEXT(VALUE(LEFT(小羊的家备份!Z31,2)),"?0")&" ☀"&TEXT(VALUE(RIGHT(小羊的家备份!Z31,3)),"?0") -> ★ 4 ☀ 8 | J30: 大守护者 | K30: ="★"&TEXT(VALUE(小羊的家备份!Z102),"?0") -> ★60 | M30: 戈仑冰人 | N30: ="★"&TEXT(VALUE(小羊的家备份!Z79),"?0") -> ★ 6 | S30: 英雄等级+5 | T30: =小羊的家备份!Z145 -> 5
G31: 隐形弹簧 | H31: ="★"&TEXT(VALUE(LEFT(小羊的家备份!Z32,2)),"?0")&" ☀"&TEXT(VALUE(RIGHT(小羊的家备份!Z32,3)),"?0") -> ★ 5 ☀ 9 | J31: 飞盾战神 | K31: ="★"&TEXT(VALUE(小羊的家备份!Z103),"?0") -> ★35 | M31: 英雄猎手 | N31: ="★"&TEXT(VALUE(小羊的家备份!Z80),"?0") -> ★ 3 | P31: 莱希 | Q31: ="★"&TEXT(VALUE(小羊的家备份!Z105),"?0") -> ★10 | S31: 科技至满 | T31: =小羊的家备份!Z146 -> 5
G32: 巨型炸弹 | H32: ="★"&TEXT(VALUE(LEFT(小羊的家备份!Z33,2)),"?0")&" ☀"&TEXT(VALUE(RIGHT(小羊的家备份!Z33,3)),"?0") -> ★ 8 ☀ 7 | P32: 大牦 | Q32: ="★"&TEXT(VALUE(小羊的家备份!Z106),"?0") -> ★10 | S32: 采集器*2 | T32: =小羊的家备份!Z147 -> 5
G33: 骷髅陷阱 | H33: ="★"&TEXT(VALUE(LEFT(小羊的家备份!Z34,2)),"?0")&" ☀"&TEXT(VALUE(RIGHT(小羊的家备份!Z34,3)),"?0") -> ★ 4 ☀ 4 | P33: 闪枭 | Q33: ="★"&TEXT(VALUE(小羊的家备份!Z107),"?0") -> ★10 | S33: 胜利之星*4 | T33: =小羊的家备份!Z148 -> 5
G34: 飓风陷阱 | H34: ="★"&TEXT(VALUE(LEFT(小羊的家备份!Z35,2)),"?0")&" ☀"&TEXT(VALUE(RIGHT(小羊的家备份!Z35,3)),"?0") -> ★ 3 ☀ 1 | P34: 独角 | Q34: ="★"&TEXT(VALUE(小羊的家备份!Z108),"?0") -> ★10
P35: 冰牙 | Q35: ="★"&TEXT(VALUE(小羊的家备份!Z109),"?0") -> ★10 | S35: ====回归奖励====
P36: 地兽 | Q36: ="★"&TEXT(VALUE(小羊的家备份!Z110),"?0") -> ★10 | S36: 建筑预算 | T36: =小羊的家备份!Z136 -> 41040000
P37: 猛蜥 | Q37: ="★"&TEXT(VALUE(小羊的家备份!Z111),"?0") -> ★10 | S37: 英雄预算 | T37: =小羊的家备份!Z137 -> 55000000
P38: 凤凰 | Q38: ="★"&TEXT(VALUE(小羊的家备份!Z112),"?0") -> ★10 | S38: 城墙预算 | T38: =小羊的家备份!Z138 -> 20520000
S39: 科技预算 | T39: =小羊的家备份!Z139 -> 41040000
S40: 英雄等级+5 | T40: =小羊的家备份!Z140 -> 5
S41: 科技至满 | T41: =小羊的家备份!Z141 -> 5
S42: 采集器*2 | T42: =小羊的家备份!Z142 -> 5
S43: 胜利之星*4 | T43: =小羊的家备份!Z143 -> 5
...

Sheet 2.1家乡主力军
A1: 2.1 家乡主力军 | D1: 圣水军队 | AM1: 无畏英雄
AO2: 备注：所有英雄都会在临死前放出自己的技能
A3: 一场战斗中必不可少的军队，是战争体系的流砥柱。 | D3: 索引： | AM3: 索引：
D4: 01.野蛮人 | F4: 野蛮人 Barbarian | P4: 弓箭手 Archer | R4: 箭矢 | Z4: 巨人 Giant | AM4: 01.野蛮人之王
A5: 大本等级 | B5: 图例样式 | C5: 简介 | D5: 02.弓箭手 | F5: 攻击任何陆军 | H5: 等级 | I5: 生命值 | J5: 每秒伤害 | K5: 升级成本 | L5: 升级时间 | P5: 攻击任何陆空 | R5: 等级 | S5: 生命值 | T5: 每秒伤害 | U5: 升级成本 | V5: 升级时间 | Z5: 优先攻击防御 | AB5: 等级 | AC5: 生命值 | AD5: 每秒伤害 | AE5: 每次伤害 | AF5: 升级成本 | AG5: 升级时间 | AM5: 02.弓箭女皇 | AO5: 野蛮人之王 Barbarian King | BD5: 弓箭女皇 Archer Queen | BF5: 霰弹弩箭
A6: 1~6本 | B6: 6 | C6: 新手诞生 | D6: 03.巨人 | F6: 射程：0.4格 | H6: 1 | I6: 45 | J6: 8 | P6: 射程：3.5格 | R6: 1 | S6: 20 | T6: 7 | Z6: 射程：1格 | AB6: 1 | AC6: 300 | AD6: 11 | AE6: 22 | AM6: 03.大守护者 | AO6: 攻击任何陆军 | AQ6: 等级 | AR6: 生命值 | AS6: 每秒伤害 | AT6: 每次伤害 | AU6: 恢复时间 | AV6: 升级成本 | AW6: 升级时间 | AX6: 技能等级 | AY6: 生命恢复 | AZ6: 移速增加 | BA6: 秒伤增加 | BB6: 召唤数量 | BD6: 攻击任何陆空 | BF6: 等级 | BG6: 生命值 | BH6: 每秒伤害 | BI6: 每次伤害 | BJ6: 恢复时间 | BK6: 升级成本 | BL6: 升级时间 | BM6: 技能等级 | BN6: 生命恢复 | BO6: 隐身时长 | BP6: 秒伤增加 | BQ6: 召唤数量
A7: 07本 | B7: 7 | C7: 游戏开始 | D7: 04.哥布林 | F7: 攻速：1秒/次 | H7: 2 | I7: 54 | J7: 11 | K7: 20000 | L7: 0.083333333 | P7: 攻速：1秒/次 | R7: 2 | S7: 23 | T7: 9 | U7: 30000 | V7: 0.125 | Z7: 攻速：2秒/次 | AB7: 2 | AC7: 360 | AD7: 14 | AE7: 28 | AF7: 40000 | AG7: 0.16666667 | AM7: 04.飞盾战神 | AO7: 射程：0.4格 | AQ7: 1 | AR7: 1700 | AS7: 120 | AT7: =AS7*1.2 -> 144 | AU7: 10 | AV7: 5000 | BD7: 射程：5格 | BF7: 1 | BG7: 725 | BH7: 160 | BI7: =BH7*0.75 -> 120 | BJ7: 10 | BK7: 10000
A8: 08本 | B8: 8 | C8: 游戏渐进 | D8: 05.炸弹人 | F8: 移速：2.0格/秒 | H8: 3 | I8: 65 | J8: 14 | K8: 60000 | L8: 0.20833333 | P8: 移速：3.0格/秒 | R8: 3 | S8: 28 | T8: 12 | U8: 80000 | V8: 0.25 | Z8: 移速：1.5格/秒 | AB8: 3 | AC8: 430 | AD8: 19 | AE8: 38 | AF8: 150000 | AG8: 0.33333333 | AO8: 攻速：1.2秒/次 | AQ8: 2 | AR8: 1742 | AS8: 122 | AT8: =AS8*1.2 -> 146.4 | AU8: 10 | AV8: 6000 | AW8: 0.16666667 | BD8: 攻速：0.75秒/次 | BF8: 2 | BG8: 740 | BH8: 164 | BI8: =BH8*0.75 -> 123 | BJ8: 10 | BK8: 11000 | BL8: 0.16666667
A9: 09本 | B9: 9 | C9: 渐入高潮 | D9: 06.气球兵 | F9: 单体攻击 | H9: 4 | I9: 85 | J9: 18 | K9: 200000 | L9: 0.5 | P9: 单体攻击 | R9: 4 | S9: 33 | T9: 16 | U9: 300000 | V9: 0.5 | Z9: 单体攻击 | AB9: 4 | AC9: 520 | AD9: 24 | AE9: 48 | AF9: 500000 | AG9: 0.5 | AM9: >>圣水军队 | AO9: 移速：2.0格/秒 | AQ9: 3 | AR9: 1786 | AS9: 124 | AT9: =AS9*1.2 -> 148.8 | AU9: 10 | AV9: 7000 | AW9: 0.25 | BD9: 移速：3.0格/秒 | BF9: 3 | BG9: 755 | BH9: 168 | BI9: =BH9*0.75 -> 126 | BJ9: 10 | BK9: 12000 | BL9: 0.25
A10: 10本 | B10: 10 | C10: 炽热之心 | D10: 07.法师 | H10: 5 | I10: 105 | J10: 23 | K10: 650000 | L10: 1 | R10: 5 | S10: 40 | T10: 20 | U10: 800000 | V10: 1 | AB10: 5 | AC10: 720 | AD10: 31 | AE10: 62 | AF10: 1200000 | AG10: 1 | AM10: >>黑油军队 | AO10: 巡逻半径: | AP10: 3格 | AQ10: 4 | AR10: 1830 | AS10: 127 | AT10: =AS10*1.2 -> 152.4 | AU10: 10 | AV10: 8000 | AW10: 0.33333333 | BD10: 巡逻半径: | BE10: 3格 | BF10: 4 | BG10: 771 | BH10: 172 | BI10: =BH10*0.75 -> 129 | BJ10: 10 | BK10: 13000 | BL10: 0.33333333
A11: 11本 | B11: 11 | C11: 重锤出击 | D11: 08.天使 | H11: 6 | I11: 125 | J11: 26 | K11: 1400000 | L11: 1.5 | R11: 6 | S11: 44 | T11: 22 | U11: 2000000 | V11: 1.5 | AB11: 6 | AC11: 940 | AD11: 43 | AE11: 86 | AF11: 2000000 | AG11: 2 | AM11: >>战争宠物 | AO11: 警戒半径: | AP11: 12格 | AQ11: 5 | AR11: 1876 | AS11: 129 | AT11: =AS11*1.2 -> 154.8 | AU11: 12 | AV11: 10000 | AW11: 0.41666667 | AX11: 1 | AY11: 500 | AZ11: 18 | BA11: 56 | BB11: 6 | BD11: 警戒半径: | BE11: 13格 | BF11: 5 | BG11: 787 | BH11: 176 | BI11: =BH11*0.75 -> 132 | BJ11: 12 | BK11: 15000 | BL11: 0.41666667 | BM11: 1 | BN11: 150 | BO11: 3.6 | BP11: 300 | BQ11: 5
A12: 12本 | B12: 12 | C12: 绝地反击 | D12: 09.飞龙 | F12: 占用空间：1 | H12: 7 | I12: 160 | J12: 30 | K12: 2100000 | L12: 2.5 | P12: 占用空间：1 | R12: 7 | S12: 48 | T12: 25 | U12: 2500000 | V12: 2.5 | Z12: 占用空间：5 | AB12: 7 | AC12: 1280 | AD12: 55 | AE12: 110 | AF12: 3000000 | AG12: 3.5 | AM12: ○主界面 | AO12: 搜索半径: | AP12: 9格 | AQ12: 6 | AR12: 1923 | AS12: 132 | AT12: =AS12*1.2 -> 158.4 | AU12: 12 | AV12: 11000 | AW12: 0.5 | AX12: 1 | AY12: 500 | AZ12: 18 | BA12: 56 | BB12: 6 | BD12: 搜索半径: | BE12: 10格 | BF12: 6 | BG12: 804 | BH12: 181 | BI12: =BH12*0.75 -> 135.75 | BJ12: 12 | BK12: 16000 | BL12: 0.5 | BM12: 1 | BN12: 150 | BO12: 3.6 | BP12: 300 | BQ12: 5
A13: 13本 | B13: 13 | C13: 冰火合奏 | D13: 10.皮卡超人 | F13: 训练时间：5秒 | H13: 8 | I13: 205 | J13: 34 | K13: 2800000 | L13: 3 | P13: 训练时间：6秒 | R13: 8 | S13: 52 | T13: 28 | U13: 3200000 | V13: 3.5 | Z13: 训练时间：30秒 | AB13: 8 | AC13: 1500 | AD13: 62 | AE13: 124 | AF13: 3500000 | AG13: 5.5 | AO13: 技能持续 | AP13: 10秒 | AQ13: 7 | AR13: 1971 | AS13: 135 | AT13: =AS13*1.2 -> 162 | AU13: 12 | AV13: 12000 | AW13: 0.58333333 | AX13: 1 | AY13: 500 | AZ13: 18 | BA13: 56 | BB13: 6 | BD13: 技能持续 | BE13: 可变 | BF13: 7 | BG13: 821 | BH13: 185 | BI13: =BH13*0.75 -> 138.75 | BJ13: 12 | BK13: 17000 | BL13: 0.58333333 | BM13: 1 | BN13: 150 | BO13: 3.6 | BP13: 300 | BQ13: 5
A14: 14本 | B14: 14 | C14: 远古结晶 | D14: 11.飞龙宝宝 | F14: 权重：50/100 | H14: 9 | I14: 230 | J14: 38 | K14: 5600000 | L14: 7 | P14: 权重：50/100 | R14: 9 | S14: 56 | T14: 31 | U14: 6300000 | V14: 7 | Z14: 权重：600/500 | AB14: 9 | AC14: 1850 | AD14: 70 | AE14: 140 | AF14: 6300000 | AG14: 9 | AO14: 技能半径 | AP14: 2.5格 | AQ14: 8 | AR14: 2020 | AS14: 137 | AT14: =AS14*1.2 -> 164.4 | AU14: 12 | AV14: 13000 | AW14: 0.66666667 | AX14: 1 | AY14: 500 | AZ14: 18 | BA14: 56 | BB14: 6 | BD14: 召唤兵种 | BE14: 弓箭手 | BF14: 8 | BG14: 838 | BH14: 190 | BI14: =BH14*0.75 -> 142.5 | BJ14: 12 | BK14: 18000 | BL14: 0.66666667 | BM14: 1 | BN14: 150 | BO14: 3.6 | BP14: 300 | BQ14: 5
A15: 15本 | B15: 15 | C15: 魔法挑战 | D15: 12.掘地矿工 | H15: 10 | I15: 250 | J15: 42 | K15: 14000000 | L15: 13 | R15: 10 | S15: 60 | T15: 34 | U15: 14500000 | V15: 13 | AB15: 10 | AC15: 2000 | AD15: 78 | AE15: 156 | AF15: 10000000 | AG15: 11.25 | AO15: 召唤兵种 | AP15: 野蛮人 | AQ15: 9 | AR15: 2071 | AS15: 140 | AT15: =AS15*1.2 -> 168 | AU15: 12 | AV15: 14000 | AW15: 0.75 | AX15: 1 | AY15: 500 | AZ15: 18 | BA15: 56 | BB15: 6 | BD15: 权重：2100/500 | BF15: 9 | BG15: 856 | BH15: 194 | BI15: =BH15*0.75 -> 145.5 | BJ15: 12 | BK15: 19000 | BL15: 0.75 | BM15: 1 | BN15: 150 | BO15: 3.6 | BP15: 300 | BQ15: 5
D16: 13.雷电飞龙 | H16: 11 | I16: 270 | J16: 45 | K16: 16000000 | L16: 14 | R16: 11 | S16: 64 | T16: 37 | U16: 16000000 | V16: 14 | AB16: 11 | AC16: 2000 | AD16: 86 | AE16: 172 | AF16: 16500000 | AG16: 16 | AO16: 王座生命值 | AP16: 250 | AQ16: 10 | AR16: 2123 | AS16: 143 | AT16: =AS16*1.2 -> 171.6 | AU16: 14 | AV16: 15000 | AW16: 0.83333333 | AX16: 2 | AY16: 620 | AZ16: 19 | BA16: 101 | BB16: 8 | BD16: 王座生命值 | BE16: 250 | BF16: 10 | BG16: 874 | BH16: 199 | BI16: =BH16*0.75 -> 149.25 | BJ16: 14 | BK16: 20000 | BL16: 0.83333333 | BM16: 2 | BN16: 175 | BO16: 3.8 | BP16: 355 | BQ16: 6
D17: 14.雪怪 | AO17: 权重：2100/2500 | AQ17: 11 | AR17: 2176 | AS17: 146 | AT17: =AS17*1.2 -> 175.2 | AU17: 14 | AV17: 17000 | AW17: 0.91666667 | AX17: 2 | AY17: 620 | AZ17: 19 | BA17: 101 | BB17: 8 | BD17: 可用皮肤 | BF17: 11 | BG17: 892 | BH17: 204 | BI17: =BH17*0.75 -> 153 | BJ17: 14 | BK17: 22000 | BL17: 0.91666667 | BM17: 2 | BN17: 175 | BO17: 3.8 | BP17: 355 | BQ17: 6
D18: 15.龙骑士 | F18: 哥布林 Goblin | Z18: 气球兵 Balloon | AB18: 气球炸弹 | AO18: 可用皮肤 | AQ18: 12 | AR18: 2230 | AS18: 149 | AT18: =AS18*1.2 -> 178.8 | AU18: 14 | AV18: 19000 | AW18: 1 | AX18: 2 | AY18: 620 | AZ18: 19 | BA18: 101 | BB18: 8 | BD18: 角斗士女皇 May 21 | BF18: 12 | BG18: 911 | BH18: 209 | BI18: =BH18*0.75 -> 156.75 | BJ18: 14 | BK18: 24000 | BL18: 1 | BM18: 2 | BN18: 175 | BO18: 3.8 | BP18: 355 | BQ18: 6
D19: 16.雷霆泰坦 | F19: 优先攻击资源 | H19: 等级 | I19: 生命值 | J19: 每秒伤害 | K19: 资源伤害 | L19: 升级成本 | M19: 升级时间 | Z19: 优先攻击防御 | AB19: 等级 | AC19: 生命值 | AD19: 每秒伤害 | AE19: 每次伤害 | AF19: 坠落伤害 | AG19: 升级成本 | AH19: 升级时间 | AO19: 角斗士之王 Apr 19 | AQ19: 13 | AR19: 2286 | AS19: 152 | AT19: =AS19*1.2 -> 182.4 | AU19: 14 | AV19: 21000 | AW19: 1.333333 | AX19: 2 | AY19: 620 | AZ19: 19 | BA19: 101 | BB19: 8 | BD19: 瓦基丽女皇 Jul 19 | BF19: 13 | BG19: 930 | BH19: 215 | BI19: =BH19*0.75 -> 161.25 | BJ19: 14 | BK19: 26000 | BL19: 1.333333 | BM19: 2 | BN19: 175 | BO19: 3.8 | BP19: 355 | BQ19: 6
F20: 射程：0.4格 | H20: 1 | I20: 25 | J20: 11 | K20: 22 | P20: 炸弹人 Wall Breaker | Z20: 射程：0.5格 | AB20: 1 | AC20: 150 | AD20: 25 | AE20: =AD20*3 -> 75 | AF20: 25 | AO20: 皮卡蛮王 Jun 19 | AQ20: 14 | AR20: 2343 | AS20: 155 | AT20: =AS20*1.2 -> 186 | AU20: 14 | AV20: 23000 | AW20: 1.6666667 | AX20: 2 | AY20: 620 | AZ20: 19 | BA20: 101 | BB20: 8 | BD20: 金秋女皇 Sep 19 | BF20: 14 | BG20: 949 | BH20: 220 | BI20: =BH20*0.75 -> 165 | BJ20: 14 | BK20: 28000 | BL20: 1.6666667 | BM20: 2 | BN20: 175 | BO20: 3.8 | BP20: 355 | BQ20: 6
D21: >>黑油军队 | F21: 攻速：1秒/次 | H21: 2 | I21: 30 | J21: 14 | K21: 28 | L21: 45000 | M21: 0.20833333 | P21: 优先攻击城墙 | R21: 等级 | S21: 生命值 | T21: 伤害 | U21: 死亡伤害 | V21: 对墙伤害 | W21: 升级成本 | X21: 升级时间 | Z21: 攻速：3秒/次 | AB21: 2 | AC21: 180 | AD21: 32 | AE21: =AD21*3 -> 96 | AF21: 32 | AG21: 125000 | AH21: 0.33333333 | AO21: 骷髅蛮王 Oct 19 | AQ21: 15 | AR21: 2402 | AS21: 158 | AT21: =AS21*1.2 -> 189.6 | AU21: 16 | AV21: 25000 | AW21: 2 | AX21: 3 | AY21: 752 | AZ21: 20 | BA21: 147 | BB21: 10 | BD21: 冰雪女皇 Nov 19 | BF21: 15 | BG21: 969 | BH21: 226 | BI21: =BH21*0.75 -> 169.5 | BJ21: 16 | BK21: 30000 | BL21: 2 | BM21: 3 | BN21: 200 | BO21: 4 | BP21: 416 | BQ21: 7
D22: >>无畏英雄 | F22: 移速：4.0格/秒 | H22: 3 | I22: 36 | J22: 19 | K22: 38 | L22: 175000 | M22: 0.375 | P22: 射程：0.5格 | R22: 1 | S22: 12 | T22: 6 | U22: 6 | V22: =T22*40&"+"&U22*40 -> 240+240 | Z22: 移速：1.3格/秒 | AB22: 3 | AC22: 216 | AD22: 48 | AE22: =AD22*3 -> 144 | AF22: 48 | AG22: 400000 | AH22: 0.5 | AO22: 圣诞蛮王 Dec 19 | AQ22: 16 | AR22: 2462 | AS22: 161 | AT22: =AS22*1.2 -> 193.2 | AU22: 16 | AV22: 27000 | AW22: 2 | AX22: 3 | AY22: 752 | AZ22: 20 | BA22: 147 | BB22: 10 | BD22: 巾帼木兰 Dec 19 | BF22: 16 | BG22: 990 | BH22: 231 | BI22: =BH22*0.75 -> 173.25 | BJ22: 16 | BK22: 32000 | BL22: 2 | BM22: 3 | BN22: 200 | BO22: 4 | BP22: 416 | BQ22: 7
D23: >>战争宠物 | F23: 克资源(伤害*2) | H23: 4 | I23: 50 | J23: 24 | K23: 48 | L23: 500000 | M23: 0.5 | P23: 攻速：1秒 | R23: 2 | S23: 16 | T23: 10 | U23: 9 | V23: =T23*40&"+"&U23*40 -> 400+360 | W23: 100000 | X23: 0.25 | Z23: 溅射半径：1.2格 | AB23: 4 | AC23: 280 | AD23: 72 | AE23: =AD23*3 -> 216 | AF23: 72 | AG23: 800000 | AH23: 0.75 | AO23: 原始蛮王 Feb 20 | AQ23: 17 | AR23: 2523 | AS23: 164 | AT23: =AS23*1.2 -> 196.8 | AU23: 16 | AV23: 29000 | AW23: 2 | AX23: 3 | AY23: 752 | AZ23: 20 | BA23: 147 | BB23: 10 | BD23: 原始女皇 Mar 20 | BF23: 17 | BG23: 1010 | BH23: 237 | BI23: =BH23*0.75 -> 177.75 | BJ23: 16 | BK23: 34000 | BL23: 2 | BM23: 3 | BN23: 200 | BO23: 4 | BP23: 416 | BQ23: 7
D24: ○主界面 | F24: 单体攻击 | H24: 5 | I24: 65 | J24: 32 | K24: 64 | L24: 1200000 | M24: 1 | P24: 移速：3.0格/秒 | R24: 3 | S24: 24 | T24: 15 | U24: 13 | V24: =T24*40&"+"&U24*40 -> 600+520 | W24: 250000 | X24: 0.5 | Z24: 出手时间：0.75秒 | AB24: 5 | AC24: 390 | AD24: 108 | AE24: =AD24*3 -> 324 | AF24: 108 | AG24: 1500000 | AH24: 1 | AO24: 发条木偶蛮王 May 20 | AQ24: 18 | AR24: 2586 | AS24: 168 | AT24: =AS24*1.2 -> 201.6 | AU24: 16 | AV24: 31000 | AW24: 2 | AX24: 3 | AY24: 752 | AZ24: 20 | BA24: 147 | BB24: 10 | BD24: 发条木偶女皇 Jun 20 | BF24: 18 | BG24: 1032 | BH24: 243 | BI24: =BH24*0.75 -> 182.25 | BJ24: 16 | BK24: 36000 | BL24: 2 | BM24: 3 | BN24: 200 | BO24: 4 | BP24: 416 | BQ24: 7
H25: 6 | I25: 80 | J25: 42 | K25: 84 | L25: 2000000 | M25: 1.5 | P25: 克城墙*40 | R25: 4 | S25: 32 | T25: 20 | U25: 16 | V25: =T25*40&"+"&U25*40 -> 800+640 | W25: 600000 | X25: 0.75 | Z25: 自爆半径：1.2格 | AB25: 6 | AC25: 545 | AD25: 162 | AE25: =AD25*3 -> 486 | AF25: 162 | AG25: 2750000 | AH25: 3.5 | AO25: 派对蛮王 Aug 20 | AQ25: 19 | AR25: 2651 | AS25: 171 | AT25: =AS25*1.2 -> 205.2 | AU25: 16 | AV25: 33000 | AW25: 2 | AX25: 3 | AY25: 752 | AZ25: 20 | BA25: 147 | BB25: 10 | BD25: 海盗女皇 Sep 20 | BF25: 19 | BG25: 1053 | BH25: 249 | BI25: =BH25*0.75 -> 186.75 | BJ25: 16 | BK25: 38000 | BL25: 2 | BM25: 3 | BN25: 200 | BO25: 4 | BP25: 416 | BQ25: 7
F26: 占用空间：1 | H26: 7 | I26: 105 | J26: 52 | K26: 104 | L26: 3000000 | M26: 3.5 | P26: 溅射半径：0.8格 | R26: 5 | S26: 46 | T26: 43 | U26: 23 | V26: =T26*40&"+"&U26*40 -> 1720+920 | W26: 1200000 | X26: 1 | Z26: 坠落时长：0.416秒 | AB26: 7 | AC26: 690 | AD26: 198 | AE26: =AD26*3 -> 594 | AF26: 214 | AG26: 4500000 | AH26: 5.25 | AO26: 冠军蛮王 Oct 20 | AQ26: 20 | AR26: 2717 | AS26: 174 | AT26: =AS26*1.2 -> 208.8 | AU26: 18 | AV26: 35000 | AW26: 2.5 | AX26: 4 | AY26: 899 | AZ26: 21 | BA26: 195 | BB26: 12 | BD26: 绿林女皇 Feb 21 | BF26: 20 | BG26: 1076 | BH26: 255 | BI26: =BH26*0.75 -> 191.25 | BJ26: 18 | BK26: 40000 | BL26: 2.5 | BM26: 4 | BN26: 225 | BO26: 4.2 | BP26: 483 | BQ26: 8
F27: 训练时间：7秒 | H27: 8 | I27: 126 | J27: 62 | K27: 124 | L27: 6300000 | M27: 8 | P27: 自爆半径：1.5格 | R27: 6 | S27: 60 | T27: 55 | U27: 30 | V27: =T27*40&"+"&U27*40 -> 2200+1200 | W27: 2500000 | X27: 2.125 | Z27: 占用空间：5 | AB27: 8 | AC27: 840 | AD27: 236 | AE27: =AD27*3 -> 708 | AF27: 268 | AG27: 7700000 | AH27: 9.5 | AO27: 海盗蛮王 Nov 20 | AQ27: 21 | AR27: 2785 | AS27: 178 | AT27: =AS27*1.2 -> 213.6 | AU27: 18 | AV27: 37000 | AW27: 2.5 | AX27: 4 | AY27: 899 | AZ27: 21 | BA27: 195 | BB27: 12 | BD27: 丛林女皇 Jun 21 | BF27: 21 | BG27: 1098 | BH27: 262 | BI27: =BH27*0.75 -> 196.5 | BJ27: 18 | BK27: 42000 | BL27: 2.5 | BM27: 4 | BN27: 225 | BO27: 4.2 | BP27: 483 | BQ27: 8
F28: 权重：50/50 | P28: 占用空间：2 | R28: 7 | S28: 78 | T28: 66 | U28: 36 | V28: =T28*40&"+"&U28*40 -> 2640+1440 | W28: 4200000 | X28: 7 | Z28: 训练时间：30秒 | AB28: 9 | AC28: 940 | AD28: 256 | AE28: =AD28*3 -> 768 | AF28: 322 | AG28: 10500000 | AH28: 12 | AO28: 武将蛮王 Feb 21 | AQ28: 22 | AR28: 2855 | AS28: 181 | AT28: =AS28*1.2 -> 217.2 | AU28: 18 | AV28: 39000 | AW28: 2.5 | AX28: 4 | AY28: 899 | AZ28: 21 | BA28: 195 | BB28: 12 | BD28: 派对女皇 Aug 21 | BF28: 22 | BG28: 1121 | BH28: 268 | BI28: =BH28*0.75 -> 201 | BJ28: 18 | BK28: 44000 | BL28: 2.5 | BM28: 4 | BN28: 225 | BO28: 4.2 | BP28: 483 | BQ28: 8
P29: 训练时间：15秒 | R29: 8 | S29: 100 | T29: 75 | U29: 42 | V29: =T29*40&"+"&U29*40 -> 3000+1680 | W29: 7300000 | X29: 10 | Z29: 权重：600/500 | AB29: 10 | AC29: 1040 | AD29: 276 | AE29: =AD29*3 -> 828 | AF29: 352 | AG29: 17000000 | AH29: 17 | AO29: 绿林蛮王 Mar 21 | AQ29: 23 | AR29: 2926 | AS29: 185 | AT29: =AS29*1.2 -> 222 | AU29: 18 | AV29: 41000 | AW29: 2.5 | AX29: 4 | AY29: 899 | AZ29: 21 | BA29: 195 | BB29: 12 | BD29: 冠军女皇 Nov 21 | BF29: 23 | BG29: 1145 | BH29: 275 | BI29: =BH29*0.75 -> 206.25 | BJ29: 18 | BK29: 46000 | BL29: 2.5 | BM29: 4 | BN29: 225 | BO29: 4.2 | BP29: 483 | BQ29: 8
P30: 权重：50/50 | R30: 9 | S30: 120 | T30: 86 | U30: 48 | V30: =T30*40&"+"&U30*40 -> 3440+1920 | W30: 10000000 | X30: 11 | AO30: 猛武蛮王 Jun 21 | AQ30: 24 | AR30: 2999 | AS30: 189 | AT30: =AS30*1.2 -> 226.8 | AU30: 18 | AV30: 43000 | AW30: 2.5 | AX30: 4 | AY30: 899 | AZ30: 21 | BA30: 195 | BB30: 12 | BD30: 暗夜女皇 Jan 22 | BF30: 24 | BG30: 1169 | BH30: 282 | BI30: =BH30*0.75 -> 211.5 | BJ30: 18 | BK30: 48000 | BL30: 2.5 | BM30: 4 | BN30: 225 | BO30: 4.2 | BP30: 483 | BQ30: 8
F31: 法师 Wizard | H31: 魔法火球 | R31: 10 | S31: 130 | T31: 94 | U31: 54 | V31: =T31*40&"+"&U31*40 -> 3760+2160 | W31: 15200000 | X31: 15 | Z31: 飞龙 Dragon | AB31: 龙息 | AO31: 丛林蛮王 Jul 21 | AQ31: 25 | AR31: 3074 | AS31: 193 | AT31: =AS31*1.2 -> 231.6 | AU31: 20 | AV31: 45000 | AW31: 3 | AX31: 5 | AY31: 1063 | AZ31: 22 | BA31: 245 | BB31: 14 | BD31: 矿工女皇 May 22 | BF31: 25 | BG31: 1193 | BH31: 289 | BI31: =BH31*0.75 -> 216.75 | BJ31: 20 | BK31: 50000 | BL31: 3 | BM31: 5 | BN31: 250 | BO31: 4.4 | BP31: 557 | BQ31: 9
F32: 攻击任何陆空 | H32: 等级 | I32: 生命值 | J32: 每秒伤害 | K32: 每次伤害 | L32: 升级成本 | M32: 升级时间 | P32: 警告：死亡伤害无法被狂暴提升！ | R32: 11 | S32: 140 | T32: 102 | U32: 60 | V32: =T32*40&"+"&U32*40 -> 4080+2400 | W32: 16500000 | X32: 16 | Z32: 攻击任何陆空 | AB32: 等级 | AC32: 生命值 | AD32: 每秒伤害 | AE32: 每次伤害 | AF32: 升级成本 | AG32: 升级时间 | AO32: 律动蛮王 Aug 21 | AQ32: 26 | AR32: 3151 | AS32: 196 | AT32: =AS32*1.2 -> 235.2 | AU32: 20 | AV32: 47000 | AW32: 3 | AX32: 5 | AY32: 1063 | AZ32: 22 | BA32: 245 | BB32: 14 | BD32: 夏日女皇 Jun 22 | BF32: 26 | BG32: 1218 | BH32: 296 | BI32: =BH32*0.75 -> 222 | BJ32: 20 | BK32: 52000 | BL32: 3 | BM32: 5 | BN32: 250 | BO32: 4.4 | BP32: 557 | BQ32: 9
F33: 射程：3格 | H33: 1 | I33: 75 | J33: 50 | K33: =J33*1.5 -> 75 | Z33: 射程：3格 | AB33: 1 | AC33: 1900 | AD33: 140 | AE33: 175 | AO33: 戈仑蛮王 Nov 21 | AQ33: 27 | AR33: 3230 | AS33: 200 | AT33: =AS33*1.2 -> 240 | AU33: 20 | AV33: 49000 | AW33: 3 | AX33: 5 | AY33: 1063 | AZ33: 22 | BA33: 245 | BB33: 14 | BD33: 像素女皇 Aug 22 | BF33: 27 | BG33: 1244 | BH33: 304 | BI33: =BH33*0.75 -> 228 | BJ33: 20 | BK33: 54000 | BL33: 3 | BM33: 5 | BN33: 250 | BO33: 4.4 | BP33: 557 | BQ33: 9
F34: 攻速：1.5秒/次 | H34: 2 | I34: 90 | J34: 70 | K34: =J34*1.5 -> 105 | L34: 120000 | M34: 0.33333333 | P34: 天使 Healer | R34: 医疗波 | Z34: 攻速：1.25秒/次 | AB34: 2 | AC34: 2100 | AD34: 160 | AE34: 200 | AF34: 1000000 | AG34: 0.75 | AO34: 冰雪蛮王 Dec 21 | AQ34: 28 | AR34: 3311 | AS34: 204 | AT34: =AS34*1.2 -> 244.8 | AU34: 20 | AV34: 51000 | AW34: 3 | AX34: 5 | AY34: 1063 | AZ34: 22 | BA34: 245 | BB34: 14 | BD34: 惊魂女皇 Oct 22 | BF34: 28 | BG34: 1270 | BH34: 311 | BI34: =BH34*0.75 -> 233.25 | BJ34: 20 | BK34: 56000 | BL34: 3 | BM34: 5 | BN34: 250 | BO34: 4.4 | BP34: 557 | BQ34: 9
F35: 移速：2.0格/秒 | H35: 3 | I35: 108 | J35: 90 | K35: =J35*1.5 -> 135 | L35: 320000 | M35: 0.5 | P35: 治疗附近陆军 | R35: 等级 | S35: 生命值 | T35: 军队秒疗 | U35: 英雄秒疗 | V35: 升级成本 | W35: 升级时间 | Z35: 移速：2.0格/秒 | AB35: 3 | AC35: 2300 | AD35: 180 | AE35: 225 | AF35: 2000000 | AG35: 1.5 | AO35: 威虎蛮王 Feb 22 | AQ35: 29 | AR35: 3394 | AS35: 208 | AT35: =AS35*1.2 -> 249.6 | AU35: 20 | AV35: 53000 | AW35: 3 | AX35: 5 | AY35: 1063 | AZ35: 22 | BA35: 245 | BB35: 14 | BD35: 魔法女皇 Oct 22 | BF35: 29 | BG35: 1297 | BH35: 319 | BI35: =BH35*0.75 -> 239.25 | BJ35: 20 | BK35: 58000 | BL35: 3 | BM35: 5 | BN35: 250 | BO35: 4.4 | BP35: 557 | BQ35: 9
F36: 溅射半径：0.3格 | H36: 4 | I36: 135 | J36: 125 | K36: =J36*1.5 -> 187.5 | L36: 620000 | M36: 0.75 | P36: 射程：5格 | R36: 1 | S36: 500 | T36: 36 | U36: 19.8 | Z36: 溅射半径：0.3格 | AB36: 4 | AC36: 2700 | AD36: 210 | AE36: 262.5 | AF36: 3000000 | AG36: 3 | AO36: 暗黑蛮王 Apr 22 | AQ36: 30 | AR36: 3478 | AS36: 213 | AT36: =AS36*1.2 -> 255.6 | AU36: 22 | AV36: 55000 | AW36: 4 | AX36: 6 | AY36: 1247 | AZ36: 23 | BA36: 298 | BB36: 16 | BD36: 圣诞女皇 Dec 22 | BF36: 30 | BG36: 1324 | BH36: 327 | BI36: =BH36*0.75 -> 245.25 | BJ36: 22 | BK36: 60000 | BL36: 4 | BM36: 6 | BN36: 275 | BO36: 4.6 | BP36: 638 | BQ36: 10
H37: 5 | I37: 165 | J37: 170 | K37: =J37*1.5 -> 255 | L37: 1200000 | M37: 1 | P37: 攻速：0.7秒/次 | R37: 2 | S37: 600 | T37: 48 | U37: 26.4 | V37: 450000 | W37: 0.5 | AB37: 5 | AC37: 3100 | AD37: 240 | AE37: 300 | AF37: 3800000 | AG37: 5.25 | AO37: 夏日蛮王 Jun 22 | AQ37: 31 | AR37: 3565 | AS37: 217 | AT37: =AS37*1.2 -> 260.4 | AU37: 22 | AV37: 57000 | AW37: 4 | AX37: 6 | AY37: 1247 | AZ37: 23 | BA37: 298 | BB37: 16 | BF37: 31 | BG37: 1352 | BH37: 335 | BI37: =BH37*0.75 -> 251.25 | BJ37: 22 | BK37: 63000 | BL37: 4 | BM37: 6 | BN37: 275 | BO37: 4.6 | BP37: 638 | BQ37: 10
H38: 6 | I38: 180 | J38: 185 | K38: =J38*1.5 -> 277.5 | L38: 2200000 | M38: 2 | P38: 移速：2.0格/秒 | R38: 3 | S38: 840 | T38: 60 | U38: 33 | V38: 900000 | W38: 1 | AB38: 6 | AC38: 3400 | AD38: 270 | AE38: 337.5 | AF38: 4900000 | AG38: 5.5 | AO38: 像素蛮王 Aug 22 | AQ38: 32 | AR38: 3655 | AS38: 221 | AT38: =AS38*1.2 -> 265.2 | AU38: 22 | AV38: 59000 | AW38: 4 | AX38: 6 | AY38: 1247 | AZ38: 23 | BA38: 298 | BB38: 16 | BF38: 32 | BG38: 1380 | BH38: 344 | BI38: =BH38*0.75 -> 258 | BJ38: 22 | BK38: 65000 | BL38: 4 | BM38: 6 | BN38: 275 | BO38: 4.6 | BP38: 638 | BQ38: 10
F39: 占用空间：4 | H39: 7 | I39: 195 | J39: 200 | K39: =J39*1.5 -> 300 | L39: 3500000 | M39: 3.5 | P39: 治疗半径：1.5格 | R39: 4 | S39: 1200 | T39: 66 | U39: 36.3 | V39: 2700000 | W39: 2 | Z39: 占用空间：20 | AB39: 7 | AC39: 3900 | AD39: 310 | AE39: 387.5 | AF39: 7000000 | AG39: 10 | AO39: 盛典蛮王 Sep 22 | AQ39: 33 | AR39: 3746 | AS39: 226 | AT39: =AS39*1.2 -> 271.2 | AU39: 22 | AV39: 60000 | AW39: 4 | AX39: 6 | AY39: 1247 | AZ39: 23 | BA39: 298 | BB39: 16 | BF39: 33 | BG39: 1409 | BH39: 352 | BI39: =BH39*0.75 -> 264 | BJ39: 22 | BK39: 67000 | BL39: 4 | BM39: 6 | BN39: 275 | BO39: 4.6 | BP39: 638 | BQ39: 10
F40: 训练时间：30秒 | H40: 8 | I40: 210 | J40: 215 | K40: =J40*1.5 -> 322.5 | L40: 5000000 | M40: 5.25 | R40: 5 | S40: 1500 | T40: 72 | U40: 48.24 | V40: 4200000 | W40: 7 | Z40: 训练时间：3分钟 | AB40: 8 | AC40: 4200 | AD40: 330 | AE40: =AD40*1.25 -> 412.5 | AF40: 11000000 | AG40: 12 | AO40: 魔法蛮王 Oct 22 | AQ40: 34 | AR40: 3840 | AS40: 230 | AT40: =AS40*1.2 -> 276 | AU40: 22 | AV40: 62000 | AW40: 4 | AX40: 6 | AY40: 1247 | AZ40: 23 | BA40: 298 | BB40: 16 | BF40: 34 | BG40: 1439 | BH40: 361 | BI40: =BH40*0.75 -> 270.75 | BJ40: 22 | BK40: 69000 | BL40: 4 | BM40: 6 | BN40: 275 | BO40: 4.6 | BP40: 638 | BQ40: 10
...

Sheet 2.2家乡支援军
A1: 2.2 家乡支援军 | D1: 圣水法术 | AB1: 攻城载具 | AD1: 所有载具均免疫除大守护者以外的正面效果，但可以被敌对负面效果作用（如13本冰冻、英雄猎手、戈仑冰人）
AD2: 所有攻城载具的训练时间都是20分钟。它装载援兵，当载具完成任务，被摧毁或者手动摧毁都会释放援兵！（备注：载具计入天鹰的触发人口1个单位，援兵不会被计入）
A3: 锦上添花，亦或者雪中送炭。配合主力军行动，唇齿相依。 | D3: 索引： | AB3: 索引：
D4: 01.雷电法术 | AB4: 01.攻城战车 | AD4: 攻城战车 Siege Machine Ram | AN4: 攻城飞艇 Siege Machine Flyer | AP4: 飞艇炸弹
A5: 大本等级 | B5: 图例样式 | C5: 简介 | D5: 02.疗伤法术 | F5: 雷电法术 LighningStorm | P5: 疗伤法术 HealingWave | AB5: 02.攻城飞艇 | AD5: 射程：2.5格 | AF5: 等级 | AG5: 生命值 | AH5: 每秒伤害 | AI5: 每次伤害 | AJ5: 对墙伤害 | AK5: 升级成本 | AL5: 升级时间 | AN5: 射程：2格 | AP5: 等级 | AQ5: 生命值 | AR5: 每次伤害 | AS5: 升级成本 | AT5: 升级时间 | AU5: 坠落伤害
A6: 1~6本 | B6: 6 | C6: 新手诞生 | D6: 03.狂暴法术 | F6: 电击溅射：2格 | H6: 等级 | I6: 总伤害 | J6: 升级成本 | K6: 升级时间 | P6: 治疗半径：5格 | R6: 等级 | S6: 总治疗 | T6: 英雄治疗 | U6: 每次治疗 | V6: 升级成本 | W6: 升级时间 | AB6: 03.攻城气球 | AD6: 攻速：1.3秒/次 | AF6: 1 | AG6: 5500 | AH6: 250 | AI6: 325 | AJ6: =AI6*10 -> 3250 | AN6: 攻速：1.5秒/次 | AP6: 1 | AQ6: 3000 | AR6: 150 | AU6: 1000
A7: 07本 | B7: 7 | C7: 游戏开始 | D7: 04.弹跳法术 | F7: 攻击次数：1次 | H7: 1 | I7: 150 | P7: 持续时长：12秒 | R7: 1 | S7: 600 | T7: =S7*0.55 -> 330 | U7: 15 | AB7: 04.攻城训练营 | AD7: 移速：1.5格/秒 | AF7: 2 | AG7: 6000 | AH7: 300 | AI7: 390 | AJ7: =AI7*10 -> 3900 | AK7: 4200000 | AL7: 5.5 | AN7: 移速：2.25格/秒 | AP7: 2 | AQ7: 3500 | AR7: 210 | AS7: 4200000 | AT7: 5.5 | AU7: 1200
A8: 08本 | B8: 8 | C8: 游戏渐进 | D8: 05.冰冻法术 | F8: 击晕时长：0.1秒 | H8: 2 | I8: 180 | J8: 50000 | K8: 0.16666667 | P8: 治疗次数：40次 | R8: 2 | S8: 800 | T8: =S8*0.55 -> 440 | U8: 20 | V8: 75000 | W8: 0.20833333 | AB8: 05.滚木战车 | AD8: 克城墙*10 | AF8: 3 | AG8: 6500 | AH8: 350 | AI8: 455 | AJ8: =AI8*10 -> 4550 | AK8: 5600000 | AL8: 7 | AN8: 溅射半径：2格 | AP8: 3 | AQ8: 4000 | AR8: 270 | AS8: 5600000 | AT8: 7 | AU8: 1400
A9: 09本 | B9: 9 | C9: 渐入高潮 | D9: 06.镜像法术 | H9: 3 | I9: 210 | J9: 100000 | K9: 0.33333333 | P9: 治疗间隔：0.3秒 | R9: 3 | S9: 1000 | T9: =S9*0.55 -> 550 | U9: 25 | V9: 150000 | W9: 0.41666667 | AB9: 06.投石战车 | AD9: 溅射半径：1.5格 | AF9: 4 | AG9: 7000 | AH9: 400 | AI9: =AH9*1.3 -> 520 | AJ9: =AI9*10 -> 5200 | AK9: 10500000 | AL9: 12 | AN9: 权重：0/100 | AP9: 4 | AQ9: 4500 | AR9: 330 | AS9: 10500000 | AT9: 12 | AU9: 1400
A10: 10本 | B10: 10 | C10: 炽热之心 | D10: 07.隐形法术 | F10: 放置时长：0.8秒 | H10: 4 | I10: 240 | J10: 200000 | K10: 0.5 | P10: 放置时长：0.8秒 | R10: 4 | S10: 1200 | T10: =S10*0.55 -> 660 | U10: 30 | V10: 300000 | W10: 0.83333333 | AB10: 07.攻城钻机 | AD10: 权重：100/100 | AF10: 直线冲大本营 | AP10: 攻城飞艇直线冲大本营，且被摧毁后自爆半径3格，延迟0.7秒
A11: 11本 | B11: 11 | C11: 重锤出击 | D11: 08.召回法术 | F11: 生效延迟：0.1秒 | H11: 5 | I11: 270 | J11: 600000 | K11: 1 | P11: 生效延迟：0.3秒 | R11: 5 | S11: 1400 | T11: =S11*0.55 -> 770 | U11: 35 | V11: 900000 | W11: 1.5 | AP11: 注意：这里采用的是每次伤害！
A12: 12本 | B12: 12 | C12: 绝地反击 | H12: 6 | I12: 320 | J12: 1500000 | K12: 4 | R12: 6 | S12: 1600 | T12: =S12*0.55 -> 880 | U12: 40 | V12: 1800000 | W12: 4 | AB12: >>圣水法术
A13: 13本 | B13: 13 | C13: 冰火合奏 | D13: >>黑油法术 | F13: 占用空间：1 | H13: 7 | I13: 400 | J13: 2500000 | K13: 6 | P13: 占用空间：2 | R13: 7 | S13: 1800 | T13: =S13*0.55 -> 990 | U13: 45 | V13: 3000000 | W13: 6 | AB13: >>黑油法术 | AD13: 攻城气球 Siege Bowler Balloon | AF13: 巨型石头 | AN13: 攻城训练营 Siege Machine Carrier
A14: 14本 | B14: 14 | C14: 远古结晶 | D14: >>攻城载具 | F14: 配置时间：3分钟 | H14: 8 | I14: 480 | J14: 4200000 | K14: 7.25 | P14: 配置时间：3分钟 | R14: 8 | S14: 2000 | T14: =S14*0.55 -> 1100 | U14: 50 | V14: 10500000 | W14: 12 | AB14: >>超级兵种 | AD14: 射程：0.5格 | AF14: 等级 | AG14: 生命值 | AH14: 每秒伤害 | AI14: 每次伤害 | AJ14: 二次伤害 | AK14: 升级成本 | AL14: 升级时间 | AN14: 持续时间：30秒 | AP14: 等级 | AQ14: 生命值 | AR14: 皮卡数量 | AS14: 法师数量 | AT14: 升级成本 | AU14: 升级时间
A15: 15本 | B15: 15 | C15: 魔法挑战 | D15: >>超级兵种 | H15: 9 | I15: 560 | J15: 7000000 | K15: 9 | R15: 9 | S15: 2200 | T15: =S15*0.55 -> 1210 | U15: 55 | V15: 17000000 | W15: 16 | AB15: ○主界面 | AD15: 攻速：2.5秒/次 | AF15: 1 | AG15: 5600 | AH15: 400 | AI15: =AH15*2.5 -> 1000 | AJ15: 200 | AN15: 移动速度：0 | AP15: 1 | AQ15: 3300 | AR15: 1 | AS15: 6
H16: 10 | I16: 600 | J16: 16000000 | K16: 16 | R16: 治疗效果：军队 100% 英雄 55% 载具 1% | AD16: 移速：2.0格/秒 | AF16: 2 | AG16: 5900 | AH16: 500 | AI16: =AH16*2.5 -> 1250 | AJ16: 300 | AK16: 4200000 | AL16: 5.5 | AN16: 降落时间：1.3秒 | AP16: 2 | AQ16: 3700 | AR16: 1 | AS16: 8 | AT16: 5600000 | AU16: 7
H17: 警告：雷电法术无法对大本营、部落城堡、仓库产生伤害 | AD17: 溅射半径：1格 | AF17: 3 | AG17: 6200 | AH17: 600 | AI17: =AH17*2.5 -> 1500 | AJ17: 400 | AK17: 5600000 | AL17: 7 | AN17: 权重：0/100 | AP17: 3 | AQ17: 4100 | AR17: 1 | AS17: 10 | AT17: 7700000 | AU17: 9.75
D18: ○主界面 | AD18: 二次溅射：4格 | AF18: 4 | AG18: 6500 | AH18: 700 | AI18: =AH18*2.5 -> 1750 | AJ18: 500 | AK18: 10500000 | AL18: 12 | AP18: 4 | AQ18: 4500 | AR18: 1 | AS18: 11 | AT18: 10500000 | AU18: 12
F19: 狂暴法术 Haste | P19: 弹跳法术 Jump | AD19: 出手时间：2.25秒 | AP19: 备注1：在持续时间内，训练营每秒会损耗自身上限1/30的生命值
F20: 狂暴半径：5格 | H20: 等级 | I20: 秒伤增加 | J20: 移速增加 | K20: 升级成本 | L20: 升级时间 | P20: 弹跳半径：3.5格 | R20: 等级 | S20: 持续时长 | T20: 增益次数 | U20: 升级成本 | V20: 升级时间 | AD20: 权重：100/100 | AF20: 气球坠落后会有500的伤害，半径3格，延迟0.416秒 | AP20: 备注2：攻城训练营出来的军队等级取决于你的村庄所对应的等级
F21: 持续时长：18秒 | H21: 1 | I21: 1.3 | J21: 20 | P21: 增益间隔：0.3秒 | R21: 1 | S21: 20 | T21: 66 | AF21: 备注：攻城气球目标防御，克城墙*25，伤害机制极其复杂，可以在研究笔记里查看详细机制
F22: 增益次数：60次 | H22: 2 | I22: 1.4 | J22: 22 | K22: 400000 | L22: 0.5 | P22: 增益效果：0.4秒 | R22: 2 | S22: 40 | T22: 133 | U22: 2000000 | V22: 4
F23: 增益间隔：0.3秒 | H23: 3 | I23: 1.5 | J23: 24 | K23: 800000 | L23: 1 | R23: 3 | S23: 60 | T23: 199 | U23: 3400000 | V23: 6
F24: 放置时长：0.8秒 | H24: 4 | I24: 1.6 | J24: 26 | K24: 1600000 | L24: 2 | P24: 放置时长：0.8秒 | R24: 4 | S24: 80 | T24: 266 | U24: 9000000 | V24: 11.25 | AD24: 滚木战车 Siege Log Launcher | AF24: 复仇滚木 | AN24: 投石战车 Siege Catapult | AP24: 火焰精灵
F25: 生效延迟：0.3秒 | H25: 5 | I25: 1.7 | J25: 28 | K25: 2400000 | L25: 4 | P25: 生效延迟：0.3秒 | R25: 5 | S25: 100 | T25: 333 | U25: 16500000 | V25: 16.5 | AD25: 射程：1.0格 | AF25: 等级 | AG25: 生命值 | AH25: 每秒伤害 | AI25: 每次伤害 | AJ25: 碾压伤害 | AK25: 升级成本 | AL25: 升级时间 | AN25: 射程：11格 | AP25: 等级 | AQ25: 生命值 | AR25: 最大存活秒数 | AS25: 每秒伤害 | AT25: 每次伤害 | AU25: 最高火伤 | AV25: 升级成本 | AW25: 升级时间
F26: 增益效果：1秒 | H26: 6 | I26: 1.8 | J26: 30 | K26: 7700000 | L26: 8 | AD26: 攻速：3.0秒/次 | AF26: 1 | AG26: 4000 | AH26: 140 | AI26: =AH26*3 -> 420 | AJ26: 2900 | AN26: 攻速：5.0秒/次 | AP26: 1 | AQ26: 1700 | AR26: =INT(AQ26/16) -> 106 | AS26: 135 | AT26: =AS26*5 -> 675 | AU26: 80
F27: 占用空间：2 | H27: 狂暴效果：军队 100% 英雄 50% 载具 0% | P27: 占用空间：2 | AD27: 移速：0.7格/秒 | AF27: 2 | AG27: 4400 | AH27: 160 | AI27: =AH27*3 -> 480 | AJ27: 3000 | AK27: 6000000 | AL27: 7.5 | AN27: 移速：0.75格/秒 | AP27: 2 | AQ27: 1800 | AR27: =INT(AQ27/16) -> 112 | AS27: 150 | AT27: =AS27*5 -> 750 | AU27: 90 | AV27: 7600000 | AW27: 9.5
F28: 配置时间：6分钟 | H28: 警告：多瓶狂暴效果叠加取加成最高 | P28: 配置时间：6分钟 | R28: 备注：弹跳效果是让部队有跳墙的能力，而不是暂时抹去城墙。 | AD28: 克城墙*10 | AF28: 3 | AG28: 4800 | AH28: 180 | AI28: =AH28*3 -> 540 | AJ28: 3100 | AK28: 8200000 | AL28: 10.5 | AN28: 克城墙*8 | AP28: 3 | AQ28: 1900 | AR28: =INT(AQ28/16) -> 118 | AS28: 165 | AT28: =AS28*5 -> 825 | AU28: 105 | AV28: 10500000 | AW28: 13.5
AD29: 溅射半径：1.2格 | AF29: 4 | AG29: 5200 | AH29: 200 | AI29: =AH29*3 -> 600 | AJ29: 3200 | AK29: 10500000 | AL29: 12 | AN29: 溅射半径：2.5格 | AP29: 4 | AQ29: 2000 | AR29: =INT(AQ29/16) -> 125 | AS29: 180 | AT29: =AS29*5 -> 900 | AU29: 120 | AV29: 13300000 | AW29: 15
AD30: 飞行极限：19格 | AF30: 直线冲大本营，移动中攻击，滚木机制类似于巨型大炮，滚木最多攻击4个建筑 | AN30: 熔岩时间：30秒 | AP30: 攻击防御，每秒掉16生命值
AD31: 权重：0/100 | AF31: 每隔1秒掉150生命值 | AN31: 权重：100/100 | AP31: 击中目标后延迟0.8秒释放持续30秒半径2.5格的火焰灼烧
F32: 冰冻法术 Freeze | P32: 镜像法术 Duplicate | AF32: 如果滚木战车被阻挡，会打出一次性的高额“碾压伤害”，范围1格？
F33: 冰冻半径：3.5格 | H33: 等级 | I33: 冰冻时长 | J33: 升级成本 | K33: 升级时间 | P33: 法术半径：3.5格 | R33: 等级 | S33: 复制人口 | T33: 升级成本 | U33: 升级时间
F34: 作用次数：1次 | H34: 1 | I34: 2.5 | P34: 复制间隔：0.3秒 | R34: 1 | S34: 22 | AD34: 攻城钻机 Battle Drill
H35: 2 | I35: 3 | J35: 1200000 | K35: 1.5 | P35: 法术持续：18秒 | R35: 2 | S35: 24 | T35: 2100000 | U35: 1.75 | AD35: 射程：1.0格 | AF35: 等级 | AG35: 生命值 | AH35: 每秒伤害 | AI35: 每次伤害 | AJ35: 升级成本 | AK35: 升级时间
F36: 放置时长：0.8秒 | H36: 3 | I36: 3.5 | J36: 1700000 | K36: 2.5833333 | P36: 镜像持续：30秒 | R36: 3 | S36: 26 | T36: 3400000 | U36: 3.5 | AD36: 攻速：1.7秒/次 | AF36: 1 | AG36: 4600 | AH36: 430 | AI36: =AH36*1.7 -> 731
F37: 生效延迟：0.3秒 | H37: 4 | I37: 4 | J37: 3000000 | K37: 4.25 | P37: 放置时长：0.8秒 | R37: 4 | S37: 28 | T37: 4200000 | U37: 4 | AD37: 移速：3格/秒 | AF37: 2 | AG37: 4900 | AH37: 470 | AI37: =AH37*1.7 -> 799 | AJ37: 8000000 | AK37: 10
H38: 5 | I38: 4.5 | J38: 4200000 | K38: 6 | P38: 生效延迟：0.3秒 | R38: 5 | S38: 30 | T38: 5600000 | U38: 7 | AD38: 地面目标 | AF38: 3 | AG38: 5200 | AH38: 510 | AI38: =AH38*1.7 -> 867 | AJ38: 11100000 | AK38: 14
F39: 占用空间：1 | H39: 6 | I39: 5 | J39: 6000000 | K39: 7.75 | R39: 6 | S39: 34 | T39: 9000000 | U39: 11.25 | AD39: 眩晕时间：2秒 | AF39: 4 | AG39: 5500 | AH39: 550 | AI39: =AH39*1.7 -> 935 | AJ39: 14000000 | AK39: 16
F40: 配置时间：3分钟 | H40: 7 | I40: 5.5 | J40: 7700000 | K40: 8.25 | P40: 占用空间：3 | R40: 7 | S40: 38 | T40: 15500000 | U40: 15.75 | AD40: 权重：100/100
...

Sheet 2.3家乡建筑
A1: 2.3 家乡建筑 | D1: 防御建筑 | AK1: 支援建筑
A3: 建筑物有两大职责：防御来犯之敌，支持村庄建设。 | D3: 索引： | AK3: 索引：
D4: 01.加农炮 | AK4: 01.大本营 | AM4: 大本营 Town Hall
A5: 大本等级 | B5: 图例样式 | C5: 简介 | D5: 02.箭塔 | F5: 加农炮 Cannon | H5: 加农炮弹 | P5: 箭塔 Archer Tower | R5: 箭矢 | AA5: 城墙 Wall | AK5: 02.部落城堡 | AM5: 占地：4*4 | AO5: 等级 | AP5: 生命值 | AQ5: 资源存储 | AR5: 黑油存储 | AS5: 建造成本 | AT5: 建造时间 | AU5: 城堡金/水存储 | AV5: 城堡黑油存储 | AX5: 部落城堡 Alliance Castle | BI5: 实验室 Laboratory | BK5: 备注：升级中的实验室依然可以研究
A6: 1~6本 | B6: 6 | C6: 新手诞生 | D6: 03.城墙 | F6: 抵御陆军 | H6: 等级 | I6: 生命值 | J6: 常规秒伤 | K6: 改装秒伤 | L6: 每次伤害 | M6: 建造成本 | N6: 建造时间 | P6: 抵御陆空 | R6: 等级 | S6: 生命值 | T6: 常规秒伤 | U6: 改装秒伤 | V6: 每次伤害 | W6: 建造成本 | X6: 建造时间 | AA6: 阻挡多数陆军 | AC6: 等级 | AD6: 生命值 | AE6: 壁垒之戒 | AF6: 建造成本 | AK6: 03.实验室 | AM6: 判定：3*3 | AO6: 1 | AP6: 450 | AQ6: 1000 | AU6: 50000 | AX6: 占地：3*3 | AZ6: 等级 | BA6: 生命值 | BB6: 援兵容量 | BC6: 法术容量 | BD6: 载具容量 | BE6: 建造成本 | BF6: 建造时间 | BI6: 占地：3*3 | BK6: 等级 | BL6: 生命值 | BM6: 建造成本 | BN6: 建造时间
A7: 07本 | B7: 7 | C7: 游戏开始 | D7: 04.迫击炮 | F7: 射程：9格 | H7: 1 | I7: 420 | J7: 9 | L7: =J7*0.8 -> 7.2 | M7: 250 | N7: 0.00011574074 | P7: 射程：10格 | R7: 1 | S7: 380 | T7: 11 | V7: 5.5 | W7: 1000 | X7: 0.00069444444 | AA7: 占地：1*1 | AC7: 1 | AD7: 300 | AE7: 1 | AF7: 50 | AK7: 04.训练营 | AM7: 金币建筑 | AO7: 2 | AP7: 1600 | AQ7: 1000 | AS7: 1000 | AT7: 0.00011574074 | AU7: 200000 | AX7: 判定：2*2 | AZ7: 1 | BA7: 1000 | BB7: 10 | BE7: 10000 | BF7: 0 | BI7: 判定：2*2 | BK7: 1 | BL7: 500 | BM7: 5000 | BN7: 0.00069444444
A8: 08本 | B8: 8 | C8: 游戏渐进 | D8: 05.防空火箭 | F8: 攻速：0.8秒/次 | H8: 2 | I8: 470 | J8: 11 | L8: =J8*0.8 -> 8.8 | M8: 1000 | N8: 0.0013888889 | P8: 攻速：0.5秒/次 | R8: 2 | S8: 420 | T8: 15 | V8: 7.5 | W8: 2000 | X8: 0.010416667 | AA8: 判定：1*1 | AC8: 2 | AD8: 500 | AE8: 1 | AF8: 1000 | AK8: 05.暗黑训练营 | AM8: 务必速本！ | AO8: 3 | AP8: 1850 | AQ8: 10000 | AS8: 4000 | AT8: 0.041666667 | AU8: 400000 | AX8: 侦测范围：12 | AZ8: 2 | BA8: 1400 | BB8: 15 | BE8: 100000 | BF8: 0.33333333 | BI8: 升级部队 | BK8: 2 | BL8: 550 | BM8: 25000 | BN8: 0.041666667
A9: 09本 | B9: 9 | C9: 渐入高潮 | D9: 06.法师塔 | F9: 单体伤害 | H9: 3 | I9: 520 | J9: 15 | L9: =J9*0.8 -> 12 | M9: 4000 | N9: 0.0069444444 | P9: 单体伤害 | R9: 3 | S9: 460 | T9: 19 | V9: 9.5 | W9: 5000 | X9: 0.03125 | AC9: 3 | AD9: 700 | AE9: 1 | AF9: 5000 | AK9: 06.兵营 | AO9: 4 | AP9: 2100 | AQ9: 50000 | AS9: 25000 | AT9: 0.125 | AU9: 600000 | AX9: 出兵间隔：0.3秒 | AZ9: 3 | BA9: 2000 | BB9: 20 | BE9: 800000 | BF9: 0.5 | BI9: 圣水建筑 | BK9: 3 | BL9: 600 | BM9: 50000 | BN9: 0.083333333
A10: 10本 | B10: 10 | C10: 炽热之心 | D10: 07.空气炮 | F10: 占地：3*3 | H10: 4 | I10: 570 | J10: 19 | L10: =J10*0.8 -> 15.2 | M10: 16000 | N10: 0.03125 | P10: 占地：3*3 | R10: 4 | S10: 500 | T10: 25 | V10: 12.5 | W10: 20000 | X10: 0.125 | AA10: Lv>=4级后可用圣水升级 | AC10: 4 | AD10: 900 | AE10: 1 | AF10: 10000 | AK10: 07.法术工厂 | AO10: 5 | AP10: 2400 | AQ10: 100000 | AS10: 150000 | AT10: 0.25 | AU10: 800000 | AX10: 圣水建筑 | AZ10: 4 | BA10: 2600 | BB10: 25 | BC10: 1 | BE10: 1200000 | BF10: 1 | BK10: 4 | BL10: 650 | BM10: 100000 | BN10: 0.16666667
A11: 11本 | B11: 11 | C11: 重锤出击 | D11: 08.伏击电塔 | F11: 判定：2*2 | H11: 5 | I11: 620 | J11: 25 | L11: =J11*0.8 -> 20 | M11: 50000 | N11: 0.083333333 | P11: 判定：2*2 | R11: 5 | S11: 540 | T11: 30 | V11: 15 | W11: 80000 | X11: 0.20833333 | AC11: 5 | AD11: 1400 | AE11: 1 | AF11: 20000 | AK11: 08.暗黑工厂 | AO11: 6 | AP11: 2800 | AQ11: 300000 | AS11: 750000 | AT11: 0.5 | AU11: 1200000 | AZ11: 5 | BA11: 3000 | BB11: 30 | BC11: 1 | BE11: 2500000 | BF11: 2 | BK11: 5 | BL11: 700 | BM11: 200000 | BN11: 0.33333333
A12: 12本 | B12: 12 | C12: 绝地反击 | D12: 09.炸弹塔 | H12: 6 | I12: 670 | J12: 31 | L12: =J12*0.8 -> 24.8 | M12: 100000 | N12: 0.16666667 | R12: 6 | S12: 580 | T12: 35 | V12: 17.5 | W12: 180000 | X12: 0.33333333 | AC12: 6 | AD12: 2000 | AE12: 1 | AF12: 30000 | AK12: 09.攻城工坊 | AO12: 7 | AP12: 3300 | AQ12: 500000 | AR12: 2500 | AS12: 1000000 | AT12: 0.75 | AU12: 1600000 | AV12: 8000 | AX12: 资源掠夺比例： | AY12: 0.03 | AZ12: 6 | BA12: 3400 | BB12: 35 | BC12: 1 | BD12: 1 | BE12: 4200000 | BF12: 5 | BK12: 6 | BL12: 750 | BM12: 400000 | BN12: 0.66666667
A13: 13本 | B13: 13 | C13: 冰火合奏 | D13: 10.X连弩 | F13: 改装需求： | H13: 7 | I13: 730 | J13: 40 | K13: =L13*4/(1.6+0.192*4) -> 54.054054 | L13: =J13*0.8 -> 32 | M13: 200000 | N13: 0.33333333 | P13: 改装需求： | R13: 7 | S13: 630 | T13: 42 | V13: 21 | W13: 360000 | X13: 0.41666667 | AC13: 7 | AD13: 2500 | AE13: 1 | AF13: 50000 | AK13: 10.圣水泵 | AO13: 8 | AP13: 3900 | AQ13: 750000 | AR13: 5000 | AS13: 2000000 | AT13: 1 | AU13: 2000000 | AV13: 10000 | AX13: 宝库容量对应大本等级 | AZ13: 7 | BA13: 4000 | BB13: 35 | BC13: 2 | BD13: 1 | BE13: 5500000 | BF13: 6.25 | BK13: 7 | BL13: 830 | BM13: 800000 | BN13: 1
A14: 14本 | B14: 14 | C14: 远古结晶 | D14: 11.地狱之塔 | F14: 双管加农炮4级 | H14: 8 | I14: 800 | J14: 48 | K14: =L14*4/(1.6+0.192*4) -> 64.864865 | L14: =J14*0.8 -> 38.4 | M14: 300000 | N14: 0.41666667 | P14: 多功能箭塔6级 | R14: 8 | S14: 690 | T14: 48 | V14: 24 | W14: 600000 | X14: 0.5 | AC14: 8 | AD14: 3000 | AE14: 1 | AF14: 75000 | AK14: 11.圣水瓶 | AO14: 9 | AP14: 4600 | AQ14: 1000000 | AR14: 10000 | AS14: 3000000 | AT14: 2 | AU14: 2400000 | AV14: 12000 | AX14: 援兵可指定 | AZ14: 8 | BA14: 4400 | BB14: 40 | BC14: 2 | BD14: 1 | BE14: 8500000 | BF14: 9.75 | BK14: 8 | BL14: 950 | BM14: 1300000 | BN14: 1.75
A15: 15本 | B15: 15 | C15: 魔法挑战 | D15: 12.天鹰火炮 | F15: 150万金币 | H15: 9 | I15: 880 | J15: 56 | K15: =L15*4/(1.6+0.192*4) -> 75.675676 | L15: =J15*0.8 -> 44.8 | M15: 500000 | N15: 0.5 | P15: 400万金币 | R15: 9 | S15: 750 | T15: 56 | V15: 28 | W15: 800000 | X15: 0.58333333 | AC15: 9 | AD15: 3500 | AE15: 1 | AF15: 100000 | AK15: 12.采金场 | AO15: 10 | AP15: 5500 | AQ15: 1500000 | AR15: 20000 | AS15: 3500000 | AT15: 2.5 | AU15: 2800000 | AV15: 14000 | AZ15: 9 | BA15: 4800 | BB15: 45 | BC15: 2 | BD15: 1 | BE15: 12000000 | BF15: 13.5 | BK15: 9 | BL15: 1070 | BM15: 2100000 | BN15: 2.75
D16: 13.巨型电磁组件 | F16: 建筑大师工作2天 | H16: 10 | I16: 960 | J16: 64 | K16: =L16*4/(1.6+0.192*4) -> 86.486486 | L16: =J16*0.8 -> 51.2 | M16: 700000 | N16: 0.75 | P16: 建筑大师工作7天 | R16: 10 | S16: 810 | T16: 63 | U16: =T16*2 -> 126 | V16: 31.5 | W16: 1000000 | X16: 0.75 | AC16: 10 | AD16: 4000 | AE16: 1 | AF16: 200000 | AK16: 13.储金罐 | AO16: 11 | AP16: 6800 | AQ16: 2000000 | AR16: 20000 | AS16: 4000000 | AT16: 2.75 | AU16: 3200000 | AV16: 16000 | AZ16: 10 | BA16: 5200 | BB16: 45 | BC16: 3 | BD16: 1 | BE16: 18000000 | BF16: 19 | BK16: 10 | BL16: 1140 | BM16: 4200000 | BN16: 4.25
D17: 14.冰爆地狱组件 | F17: 改装结果： | H17: 11 | I17: 1060 | J17: 74 | K17: =L17*4/(1.6+0.192*4) -> 100 | L17: =J17*0.8 -> 59.2 | M17: 1000000 | N17: 1 | P17: 改装结果： | R17: 11 | S17: 890 | T17: 70 | U17: =T17*2 -> 140 | V17: 35 | W17: 1200000 | X17: 1 | AC17: 11 | AD17: 5000 | AE17: 1 | AF17: 500000 | AK17: 14.黑油钻井 | AO17: 12 | AP17: 7500 | AQ17: 2000000 | AR17: 20000 | AS17: 6000000 | AT17: 4.25 | AU17: 3600000 | AV17: 18000 | AZ17: 11 | BA17: 5600 | BB17: 50 | BC17: 3 | BD17: 1 | BE17: 20000000 | BF17: 20 | BK17: 11 | BL17: 1210 | BM17: 6800000 | BN17: 6.75
D18: 15.西瓜投手 | F18: 连发：0.192秒*4 | H18: 12 | I18: 1160 | J18: 87 | K18: =L18*4/(1.6+0.192*4) -> 117.56757 | L18: =J18*0.8 -> 69.6 | M18: 1200000 | N18: 1.25 | P18: 攻速：0.25秒/次 | R18: 12 | S18: 970 | T18: 75 | U18: =T18*2 -> 150 | V18: 37.5 | W18: 1500000 | X18: 1.25 | AC18: 12 | AD18: 7000 | AE18: 1 | AF18: 1000000 | AK18: 15.黑油罐 | AO18: 13 | AP18: 8200 | AQ18: 2000000 | AR18: 20000 | AS18: 9000000 | AT18: 7.5 | AU18: 4000000 | AV18: 20000 | AZ18: 备注1：部落城堡被摧毁后损失3%的资源 | BK18: 12 | BL18: 1280 | BM18: 11500000 | BN18: 11.5
D19: 16.毒爆地狱组件 | F19: 攻速：2.3秒/轮 | H19: 13 | I19: 1260 | J19: 100 | K19: =L19*4/(1.6+0.192*4) -> 135.13514 | L19: =J19*0.8 -> 80 | M19: 1700000 | N19: 2.25 | P19: 射程：7格 | R19: 13 | S19: 1050 | T19: 80 | U19: =T19*2 -> 160 | V19: 40 | W19: 2000000 | X19: 2.25 | AC19: 13 | AD19: 9000 | AE19: 2 | AF19: 2000000 | AK19: 16.战宠小屋 | AO19: 14 | AP19: 8900 | AQ19: 2000000 | AR19: 20000 | AS19: 15000000 | AT19: 13.25 | AU19: 4400000 | AV19: 22000 | AZ19: 备注2：捐1单位法术获得5经验，1载具则为30经验 | BK19: 13 | BL19: 1350 | BM19: 12500000 | BN19: 12
D20: 17.连弩小屋组件 | F20: 射程：7格 | H20: 14 | I20: 1380 | J20: 110 | K20: =L20*4/(1.6+0.192*4) -> 148.64865 | L20: =J20*0.8 -> 88 | M20: 2100000 | N20: 3 | R20: 14 | S20: 1130 | T20: 92 | U20: =T20*2 -> 184 | V20: 46 | W20: 2500000 | X20: 3.5 | AC20: 14 | AD20: 11000 | AE20: 4 | AF20: 4000000 | AO20: 15 | AP20: 9600 | AQ20: 2000000 | AR20: 20000 | AS20: 18000000 | AT20: 15 | AU20: 4800000 | AV20: 24000 | AZ20: 备注3：可以指定收到的援兵了！
D21: 18.魔能地狱组件 | H21: 15 | I21: 1500 | J21: 118 | K21: =L21*4/(1.6+0.192*4) -> 159.45946 | L21: =J21*0.8 -> 94.4 | M21: 3200000 | N21: 4.25 | R21: 15 | S21: 1230 | T21: 104 | U21: =T21*2 -> 208 | V21: 52 | W21: 3500000 | X21: 5 | AC21: 15 | AD21: 12500 | AE21: 7 | AF21: 7000000 | AK21: >>隐秘陷阱 | AO21: 备注：需要建造所有已解锁的建筑才能升级大本营
D22: 19.法术塔 | H22: 16 | I22: 1620 | J22: 124 | K22: =L22*4/(1.6+0.192*4) -> 167.56757 | L22: =J22*0.8 -> 99.2 | M22: 4900000 | N22: 6.25 | R22: 16 | S22: 1330 | T22: 112 | U22: =T22*2 -> 224 | V22: 58 | W22: 5300000 | X22: 6.25 | AC22: 16 | AD22: 13500 | AE22: 8 | AF22: 8000000 | AK22: >>防御建筑 | AM22: 训练营 Barrack | AW22: 暗黑训练营 Dark Elixir Barrack | BG22: 兵营 Troop Housing
D23: 20.巨石碑 | H23: 17 | I23: 1740 | J23: 130 | K23: =L23*4/(1.6+0.192*4) -> 175.67568 | L23: =J23*0.8 -> 104 | M23: 6300000 | N23: 8.5 | R23: 17 | S23: 1410 | T23: 120 | U23: =T23*2 -> 240 | V23: 61 | W23: 6800000 | X23: 8.5 | AK23: ○主界面 | AM23: 占地：3*3 | AO23: 等级 | AP23: 生命值 | AQ23: 解锁兵种 | AR23: 建造成本 | AS23: 建造时间 | AW23: 占地：3*3 | AY23: 等级 | AZ23: 生命值 | BA23: 解锁兵种 | BB23: 建造成本 | BC23: 建造时间 | BG23: 占地：4*4 | BI23: 等级 | BJ23: 生命值 | BK23: 兵种容量 | BL23: 建造成本 | BM23: 建造时间
H24: 18 | I24: 1870 | J24: 139 | K24: =L24*4/(1.6+0.192*4) -> 187.83784 | L24: =J24*0.8 -> 111.2 | M24: 8200000 | N24: 11.25 | R24: 18 | S24: 1510 | T24: 128 | U24: =T24*2 -> 256 | V24: =T24/2 -> 64 | W24: 8500000 | X24: 11.25 | AM24: 判定：2*2 | AO24: 1 | AP24: 250 | AQ24: 野蛮人 | AR24: 100 | AS24: 0.00011574074 | AW24: 判定：2*2 | AY24: 1 | AZ24: 500 | BA24: 亡灵 | BB24: 200000 | BC24: 0.33333333 | BG24: 判定：2*2 | BI24: 1 | BJ24: 250 | BK24: 20 | BL24: 200 | BM24: 0.0034722222
D25: >>隐秘陷阱 | H25: 19 | I25: 2000 | J25: 146 | K25: =L25*4/(1.6+0.192*4) -> 197.2973 | L25: =J25*0.8 -> 116.8 | M25: 9800000 | N25: 12 | R25: 19 | S25: 1600 | T25: 134 | U25: =T25*2 -> 268 | V25: =T25/2 -> 67 | W25: 9800000 | X25: 12 | AM25: 训练圣水兵种 | AO25: 2 | AP25: 290 | AQ25: 弓箭手 | AR25: 500 | AS25: 0.00069444444 | AW25: 训练暗黑兵种 | AY25: 2 | AZ25: 550 | BA25: 野猪骑士 | BB25: 600000 | BC25: 1 | BG25: 储存军队 | BI25: 2 | BJ25: 270 | BK25: 30 | BL25: 2000 | BM25: 0.010416667
D26: >>支援建筑 | H26: 20 | I26: 2150 | J26: 154 | K26: =L26*4/(1.6+0.192*4) -> 208.10811 | L26: =J26*0.8 -> 123.2 | M26: 16500000 | N26: 16.25 | R26: 20 | S26: 1700 | T26: 140 | U26: =T26*2 -> 280 | V26: =T26/2 -> 70 | W26: 16500000 | X26: 16.25 | AM26: 圣水建筑 | AO26: 3 | AP26: 330 | AQ26: 巨人 | AR26: 2500 | AS26: 0.0069444444 | AW26: 圣水建筑 | AY26: 3 | AZ26: 600 | BA26: 武神 | BB26: 1000000 | BC26: 1.5 | BG26: 圣水建筑 | BI26: 3 | BJ26: 290 | BK26: 35 | BL26: 10000 | BM26: 0.083333333
D27: ○主界面 | H27: 21 | I27: 2250 | J27: 160 | K27: =L27*4/(1.6+0.192*4) -> 216.21622 | L27: =J27*0.8 -> 128 | M27: 18000000 | N27: 17 | R27: 21 | S27: 1800 | T27: 145 | U27: =T27*2 -> 290 | V27: =T27/2 -> 72.5 | W27: 18500000 | X27: 17 | AO27: 4 | AP27: 370 | AQ27: 哥布林 | AR27: 5000 | AS27: =0.04166666 -> 0.04166666 | AY27: 4 | AZ27: 650 | BA27: 石头人 | BB27: 1600000 | BC27: 2 | BI27: 4 | BJ27: 310 | BK27: 40 | BL27: 100000 | BM27: 0.20833333
AA28: 法师塔 Wizard Tower | AC28: 魔法火球 | AO28: 5 | AP28: 420 | AQ28: 炸弹人 | AR28: 20000 | AS28: 0.33333333 | AW28: 升级时，黑油兵种训练时间翻倍 | AY28: 5 | AZ28: 700 | BA28: 女巫 | BB28: 2200000 | BC28: 3.5 | BI28: 5 | BJ28: 330 | BK28: 45 | BL28: 250000 | BM28: 0.33333333
P29: 防空火箭 Air Defense | R29: 烟花弹 | AA29: 抵御陆空 | AC29: 等级 | AD29: 生命值 | AE29: 每秒伤害 | AF29: 每次伤害 | AG29: 建造成本 | AH29: 建造时间 | AO29: 6 | AP29: 470 | AQ29: 气球兵 | AR29: 120000 | AS29: 0.5 | AY29: 6 | AZ29: 750 | BA29: 熔岩猎犬 | BB29: 2900000 | BC29: 4.5 | BI29: 6 | BJ29: 350 | BK29: 50 | BL29: 750000 | BM29: 0.5
F30: 迫击炮 Mortar | H30: 迫击炮弹 | P30: 抵御空军 | R30: 等级 | S30: 生命值 | T30: 每秒伤害 | U30: 每次伤害 | V30: 建造成本 | W30: 建造时间 | AA30: 射程：7格 | AC30: 1 | AD30: 620 | AE30: 11 | AF30: =AE30*1.3 -> 14.3 | AG30: 120000 | AH30: 0.125 | AO30: 7 | AP30: 520 | AQ30: 法师 | AR30: 270000 | AS30: 0.75 | AY30: 7 | AZ30: 800 | BA30: 巨石投手 | BB30: 4000000 | BC30: 6.5 | BI30: 7 | BJ30: 400 | BK30: 55 | BL30: 1500000 | BM30: 2
F31: 抵御陆军 | H31: 等级 | I31: 生命值 | J31: 常规秒伤 | K31: 正常伤害 | L31: 改装伤害 | M31: 建造成本 | N31: 建造时间 | P31: 射程：10格 | R31: 1 | S31: 800 | T31: 80 | U31: 80 | V31: 22000 | W31: 0.125 | AA31: 攻速：1.3秒/次 | AC31: 2 | AD31: 650 | AE31: 13 | AF31: =AE31*1.3 -> 16.9 | AG31: 220000 | AH31: 0.33333333 | AO31: 8 | AP31: 580 | AQ31: 天使 | AR31: 800000 | AS31: 1 | AY31: 8 | AZ31: 850 | BA31: 戈仑冰人 | BB31: 7500000 | BC31: 9 | BI31: 8 | BJ31: 500 | BK31: 60 | BL31: 2500000 | BM31: 3
F32: 射程：4-11格 | H32: 1 | I32: 400 | J32: 4 | K32: 20 | M32: 5000 | N32: 0.125 | P32: 攻速：1秒/次 | R32: 2 | S32: 850 | T32: 110 | U32: 110 | V32: 90000 | W32: 0.5 | AA32: 溅射半径：1格 | AC32: 3 | AD32: 680 | AE32: 16 | AF32: =AE32*1.3 -> 20.8 | AG32: 420000 | AH32: 0.5 | AO32: 9 | AP32: 650 | AQ32: 飞龙 | AR32: 1200000 | AS32: 1.5 | AY32: 9 | AZ32: 900 | BA32: 英雄猎手 | BB32: 10000000 | BC32: 10.5 | BI32: 9 | BJ32: 600 | BK32: 65 | BL32: 4200000 | BM32: 6.25
F33: 攻速：5秒/次 | H33: 2 | I33: 450 | J33: 5 | K33: 25 | M33: 25000 | N33: 0.25 | P33: 单体伤害 | R33: 3 | S33: 900 | T33: 140 | U33: 140 | V33: 270000 | W33: 0.66666667 | AA33: 占地：3*3 | AC33: 4 | AD33: 730 | AE33: 20 | AF33: =AE33*1.3 -> 26 | AG33: 720000 | AH33: 0.75 | AO33: 10 | AP33: 730 | AQ33: 皮卡超人 | AR33: 1700000 | AS33: 2.5 | BI33: 10 | BJ33: 700 | BK33: 70 | BL33: 6300000 | BM33: 9.75
F34: 溅射半径：1.5格 | H34: 3 | I34: 500 | J34: 6 | K34: 30 | M34: 100000 | N34: 0.5 | P34: 占地：3*3 | R34: 4 | S34: 950 | T34: 160 | U34: 160 | V34: 500000 | W34: 1 | AA34: 判定：2*2 | AC34: 5 | AD34: 840 | AE34: 24 | AF34: =AE34*1.3 -> 31.2 | AG34: 920000 | AH34: 1 | AO34: 11 | AP34: 810 | AQ34: 飞龙宝宝 | AR34: 2600000 | AS34: 4 | BI34: 11 | BJ34: 800 | BK34: 75 | BL34: 12000000 | BM34: 12
F35: 占地：3*3 | H35: 4 | I35: 550 | J35: 7 | K35: 35 | M35: 200000 | N35: 1 | P35: 判定：2*2 | R35: 5 | S35: 1000 | T35: 190 | U35: 190 | V35: 1000000 | W35: 1.5 | AC35: 6 | AD35: 960 | AE35: 32 | AF35: =AE35*1.3 -> 41.6 | AG35: 1200000 | AH35: 1.5 | AO35: 12 | AP35: 900 | AQ35: 掘地矿工 | AR35: 3700000 | AS35: 5.5 | BI35: 12 | BJ35: 850 | BK35: 80 | BL35: 19000000 | BM35: 16
F36: 判定：2*2 | H36: 5 | I36: 600 | J36: 9 | K36: 45 | M36: 400000 | N36: 2 | R36: 6 | S36: 1050 | T36: 230 | U36: 230 | V36: 1350000 | W36: 2 | AC36: 7 | AD36: 1200 | AE36: 40 | AF36: =AE36*1.3 -> 52 | AG36: 2200000 | AH36: 2 | AO36: 13 | AP36: 980 | AQ36: 雷电飞龙 | AR36: 6500000 | AS36: 7.5
F37: 击退距离：1格 | H37: 6 | I37: 650 | J37: 11 | K37: 55 | M37: 750000 | N37: 2.5 | R37: 7 | S37: 1100 | T37: 280 | U37: 280 | V37: 1750000 | W37: 3 | AC37: 8 | AD37: 1440 | AE37: 45 | AF37: =AE37*1.3 -> 58.5 | AG37: 2700000 | AH37: 3 | AO37: 14 | AP37: 1050 | AQ37: 雪怪 | AR37: 9000000 | AS37: 10
F38: 改装需求： | H38: 7 | I38: 700 | J38: 15 | K38: 75 | M38: 1500000 | N38: 3 | R38: 8 | S38: 1210 | T38: 320 | U38: 320 | V38: 3000000 | W38: 4.25 | AC38: 9 | AD38: 1680 | AE38: 50 | AF38: =AE38*1.3 -> 65 | AG38: 3700000 | AH38: 5.25 | AO38: 15 | AP38: 1150 | AQ38: 龙骑士 | AR38: 12500000 | AS38: 13
F39: 多管迫击炮8级 | H39: 8 | I39: 800 | J39: 20 | K39: 100 | L39: 37 | M39: 2500000 | N39: 3.25 | R39: 9 | S39: 1300 | T39: 360 | U39: 360 | V39: 4200000 | W39: 6.25 | AC39: 10 | AD39: 2000 | AE39: 62 | AF39: =AE39*1.3 -> 80.6 | AG39: 5200000 | AH39: 6.5 | AO39: 16 | AP39: 1250 | AQ39: 雷霆泰坦 | AR39: 15000000 | AS39: 16
F40: 800万金币 | H40: 9 | I40: 950 | J40: 25 | K40: 125 | L40: 47 | M40: 3500000 | N40: 4.25 | R40: 10 | S40: 1400 | T40: 400 | U40: 400 | V40: 6500000 | W40: 9.75 | AC40: 11 | AD40: 2240 | AE40: 70 | AF40: =AE40*1.3 -> 91 | AG40: 7200000 | AH40: 9.75 | AW40: 暗黑工厂 Mini Spell Factory | BG40: 攻城工坊 SiegeWorkshop
F41: 建筑大师工作14天 | H41: 10 | I41: 1100 | J41: 30 | K41: 150 | L41: 56 | M41: 4800000 | N41: 5.5 | R41: 11 | S41: 1500 | T41: 440 | U41: 440 | V41: 10500000 | W41: 12 | AC41: 12 | AD41: 2480 | AE41: 78 | AF41: =AE41*1.3 -> 101.4 | AG41: 10700000 | AH41: 12 | AW41: 占地：3*3 | AY41: 等级 | AZ41: 生命值 | BA41: 法术容量 | BB41: 解锁法术 | BC41: 建造成本 | BD41: 建造时间 | BG41: 占地：4*4 | BI41: 等级 | BJ41: 生命值 | BK41: 载具容量 | BL41: 解锁武器 | BM41: 建造成本 | BN41: 建造时间
...

Sheet 3.1夜本军队
A1: 3.1 夜本军队 | D1: 夜本军队 | AE1: 战争机器
A3: 夜本进攻的一切，训练无需成本时间，允许开战前换兵。 | D3: 索引 | AE3: 索引：
D4: 01.狂暴野蛮人 | AE4: 01.战争机器
A5: 大本等级 | B5: 图例样式 | C5: 简介 | D5: 02.隐秘弓箭手 | F5: 狂暴野蛮人 Barbarian2 | H5: 野蛮狂暴：在部署后的t秒狂暴，获得额外的移动速度和伤害 | R5: 隐秘弓箭手 Archer2 | T5: 隐形披风：在部署后的t秒隐身，不会被锁定为攻击目标 | Z5: 箭矢 | AG5: 战争机器 | AI5: 电磁战锤:释放后回复n生命值,并额外增加k的秒伤攻击三次,冷却14秒
A6: 1~4本 | B6: 4 | C6: 新手起源 | D6: 03.巨人拳击手 | F6: 攻击任何陆军 | H6: 等级 | I6: 生命值 | J6: 每秒伤害 | K6: 每次伤害 | L6: 狂暴时长 | M6: 狂暴秒伤 | N6: 兵营容量 | O6: 升级成本 | P6: 升级时间 | R6: 攻击任何陆空 | T6: 等级 | U6: 生命值 | V6: 每秒伤害 | W6: 隐形时长 | X6: 兵营容量 | Y6: 升级成本 | Z6: 升级时间 | AE6: >>夜本军队 | AG6: 攻击任何陆军 | AI6: 等级 | AJ6: 生命值 | AK6: 每秒伤害 | AL6: 每次伤害 | AM6: 升级成本 | AN6: 升级时间 | AO6: 技能等级 | AP6: 生命恢复 | AQ6: 秒伤增加
A7: 05本 | B7: 5 | C7: 游戏开始 | D7: 04.异变亡灵 | F7: 射程：0.4格 | H7: 1 | I7: 150 | J7: 50 | K7: =J7*0.8 -> 40 | L7: 4秒 | M7: 85 | N7: 4 | R7: 射程：3.5格 | T7: 1 | U7: 100 | V7: 36 | X7: 4 | AE7: ○主界面 | AG7: 射程：1.25格 | AI7: 1 | AJ7: 3600 | AK7: 125 | AL7: =AK7*1.2 -> 150 | AM7: 900000 | AN7: 0.5
A8: 06本 | B8: 6 | C8: 炽热之心 | D8: 05.炸弹兵 | F8: 攻速：0.8秒/次 | H8: 2 | I8: 150 | J8: 50 | K8: =J8*0.8 -> 40 | L8: 4秒 | M8: 85 | N8: 4 | O8: 3500 | P8: 0.00069444444 | R8: 攻速：1秒/次 | T8: 2 | U8: 100 | V8: 36 | W8: 3秒 | X8: 4 | Y8: 5000 | Z8: 0.0020833333 | AG8: 攻速：1.2秒/次 | AI8: 2 | AJ8: 3672 | AK8: 127 | AL8: =AK8*1.2 -> 152.4 | AM8: 1000000 | AN8: 0.5
A9: 07本 | B9: 7 | C9: 重炮出击 | D9: 06.飞龙宝宝 | F9: 移速：2.0格/秒 | H9: 3 | I9: 165 | J9: 55 | K9: =J9*0.8 -> 44 | L9: 4秒 | M9: 93.5 | N9: 4 | O9: 6000 | P9: 0.0034722222 | R9: 移速：3.0格/秒 | T9: 3 | U9: 110 | V9: 40 | W9: 3秒 | X9: 4 | Y9: 8000 | Z9: 0.0069444444 | AG9: 移速：2.0格/秒 | AI9: 3 | AJ9: 3745 | AK9: 130 | AL9: =AK9*1.2 -> 156 | AM9: 1100000 | AN9: 0.5
A10: 08本 | B10: 8 | C10: 电流狂欢 | D10: 07.加农炮战车 | F10: 单体攻击 | H10: 4 | I10: 165 | J10: 55 | K10: =J10*0.8 -> 44 | L10: 4秒 | M10: 93.5 | N10: 6 | O10: 9000 | P10: 0.010416667 | R10: 单体攻击 | T10: 4 | U10: 110 | V10: 40 | W10: 3秒 | X10: 6 | Y10: 12000 | Z10: 0.020833333 | AG10: 技能冷却：14秒 | AI10: 4 | AJ10: 3820 | AK10: 132 | AL10: =AK10*1.2 -> 158.4 | AM10: 1200000 | AN10: 1
A11: 09本 | B11: 9 | C11: 天地合奏 | D11: 08.暗夜女巫 | F11: 狂暴移速:4.0格/秒 | H11: 5 | I11: 182 | J11: 61 | K11: =J11*0.8 -> 48.8 | L11: 4秒 | M11: 103.7 | N11: 6 | O11: 50000 | P11: 0.125 | R11: 隐身时间:可变 | T11: 5 | U11: 121 | V11: 44 | W11: 3秒 | X11: 6 | Y11: 60000 | Z11: 0.16666667 | AG11: 技能作用：3次 | AI11: 5 | AJ11: 3896 | AK11: 135 | AL11: =AK11*1.2 -> 162 | AM11: 1300000 | AN11: 1 | AO11: 1 | AP11: 800 | AQ11: 270
D12: 09.骷髅气球 | F12: 狂暴秒伤:170% | H12: 6 | I12: 182 | J12: 61 | K12: =J12*0.8 -> 48.8 | L12: 4秒 | M12: 103.7 | N12: 10 | O12: 100000 | P12: 0.25 | T12: 6 | U12: 121 | V12: 44 | W12: 5秒 | X12: 6 | Y12: 120000 | Z12: 0.25 | AG12: 移速增加：0.5格/秒 | AI12: 6 | AJ12: 3954 | AK12: 137 | AL12: =AK12*1.2 -> 164.4 | AM12: 1500000 | AN12: 1 | AO12: 1 | AP12: 800 | AQ12: 270
D13: 10.超级皮卡 | F13: 弹射质量：2 | H13: 7 | I13: 200 | J13: 67 | K13: =J13*0.8 -> 53.6 | L13: 4秒 | M13: 113.9 | N13: 10 | O13: 300000 | P13: 0.5 | R13: 弹射质量：2 | T13: 7 | U13: 133 | V13: 48 | W13: 5秒 | X13: 6 | Y13: 320000 | Z13: 0.5 | AI13: 7 | AJ13: 4013 | AK13: 140 | AL13: =AK13*1.2 -> 168 | AM13: 1600000 | AN13: 1 | AO13: 1 | AP13: 800 | AQ13: 270
